BEGIN:VCALENDAR
VERSION:2.0
PRODID:-//CYRKUS - ECPv6.15.20//NONSGML v1.0//EN
CALSCALE:GREGORIAN
METHOD:PUBLISH
X-WR-CALNAME:CYRKUS
X-ORIGINAL-URL:https://cyrkus.eu
X-WR-CALDESC:Veranstaltungen für CYRKUS
REFRESH-INTERVAL;VALUE=DURATION:PT1H
X-Robots-Tag:noindex
X-PUBLISHED-TTL:PT1H
BEGIN:VTIMEZONE
TZID:Europe/Berlin
BEGIN:DAYLIGHT
TZOFFSETFROM:+0100
TZOFFSETTO:+0200
TZNAME:CEST
DTSTART:20250330T010000
END:DAYLIGHT
BEGIN:STANDARD
TZOFFSETFROM:+0200
TZOFFSETTO:+0100
TZNAME:CET
DTSTART:20251026T010000
END:STANDARD
BEGIN:DAYLIGHT
TZOFFSETFROM:+0100
TZOFFSETTO:+0200
TZNAME:CEST
DTSTART:20260329T010000
END:DAYLIGHT
BEGIN:STANDARD
TZOFFSETFROM:+0200
TZOFFSETTO:+0100
TZNAME:CET
DTSTART:20261025T010000
END:STANDARD
BEGIN:DAYLIGHT
TZOFFSETFROM:+0100
TZOFFSETTO:+0200
TZNAME:CEST
DTSTART:20270328T010000
END:DAYLIGHT
BEGIN:STANDARD
TZOFFSETFROM:+0200
TZOFFSETTO:+0100
TZNAME:CET
DTSTART:20271031T010000
END:STANDARD
END:VTIMEZONE
BEGIN:VEVENT
DTSTART;TZID=Europe/Berlin:20260419T100000
DTEND;TZID=Europe/Berlin:20260419T160000
DTSTAMP:20260421T150500
CREATED:20260417T075642Z
LAST-MODIFIED:20260417T075808Z
UID:10005733-1776592800-1776614400@cyrkus.eu
SUMMARY:🇩🇪 Das Lutherplatz-Wochenende steht vor der Tür! 🎉
DESCRIPTION:Von Freitag (17.04.) bis Sonntag (19.04.) laden wir in Kooperation mit der Kinder-Kultur-Café Camaleón alle Kinder und Jugendliche herzlich ein\, gemeinsam mit uns unter freiem Himmel zu trainieren\, Neues auszuprobieren und jede Menge Spaß zu haben. \nFreut euch auf spannende Workshops in Jonglage\, Einrad\, Akrobatik und Breakdance. Außerdem wird diesmal nicht nur Musik gehört\, sondern auch selbst gemacht! 😉🎶 \nEin besonderes Highlight: Am Sonntag habt ihr die Möglichkeit\, auf der Bühne aufzutreten und zu zeigen\, was ihr gelernt habt. \n🕒 Zeiten:\nFreitag: 15:00 – 17:00 Uhr\nSamstag: 10:00 – 17:00 Uhr\nSonntag: 10:00 – 16:00 Uhr \n📍 Ort: Lutherplatz\, Görlitz \nFür alle Teilnehmer*innen gibt es außerdem zweimal warmes Mittagessen. 🍲 \nWir freuen uns auf euch!
URL:https://cyrkus.eu/event/%f0%9f%87%a9%f0%9f%87%aa-das-lutherplatz-wochenende-steht-vor-der-tuer-%f0%9f%8e%89/2026-04-19/
LOCATION:Lutherplatz Görlitz\, Höhe CAMALEON\, Görlitz\, Sachsen\, 02826\, Deutschland
CATEGORIES:Auftritt,cyrkusspieltplatz
ATTACH;FMTTYPE=image/jpeg:https://cyrkus.eu/wp-content/uploads/2026/04/lutherplatz-wochenende.jpg
END:VEVENT
END:VCALENDAR