BEGIN:VCALENDAR
VERSION:2.0
PRODID:-//CYRKUS - ECPv6.15.20//NONSGML v1.0//EN
CALSCALE:GREGORIAN
METHOD:PUBLISH
X-WR-CALNAME:CYRKUS
X-ORIGINAL-URL:https://cyrkus.eu
X-WR-CALDESC:Veranstaltungen für CYRKUS
REFRESH-INTERVAL;VALUE=DURATION:PT1H
X-Robots-Tag:noindex
X-PUBLISHED-TTL:PT1H
BEGIN:VTIMEZONE
TZID:Europe/Berlin
BEGIN:DAYLIGHT
TZOFFSETFROM:+0100
TZOFFSETTO:+0200
TZNAME:CEST
DTSTART:20250330T010000
END:DAYLIGHT
BEGIN:STANDARD
TZOFFSETFROM:+0200
TZOFFSETTO:+0100
TZNAME:CET
DTSTART:20251026T010000
END:STANDARD
BEGIN:DAYLIGHT
TZOFFSETFROM:+0100
TZOFFSETTO:+0200
TZNAME:CEST
DTSTART:20260329T010000
END:DAYLIGHT
BEGIN:STANDARD
TZOFFSETFROM:+0200
TZOFFSETTO:+0100
TZNAME:CET
DTSTART:20261025T010000
END:STANDARD
BEGIN:DAYLIGHT
TZOFFSETFROM:+0100
TZOFFSETTO:+0200
TZNAME:CEST
DTSTART:20270328T010000
END:DAYLIGHT
BEGIN:STANDARD
TZOFFSETFROM:+0200
TZOFFSETTO:+0100
TZNAME:CET
DTSTART:20271031T010000
END:STANDARD
END:VTIMEZONE
BEGIN:VEVENT
DTSTART;TZID=Europe/Berlin:20260421T150000
DTEND;TZID=Europe/Berlin:20260421T170000
DTSTAMP:20260421T115656
CREATED:20250907T061059Z
LAST-MODIFIED:20251116T140154Z
UID:10005367-1776783600-1776790800@cyrkus.eu
SUMMARY:Offene Workshops @Sattigplatz
DESCRIPTION:Jeder kann kommen und mitmachen.
URL:https://cyrkus.eu/event/offene-workshops-sattigplatz/2026-04-21/
LOCATION:Sattigplatz\, Sattigplatz\, Görlitz\, 02826\, Germany
CATEGORIES:cyrkusspieltplatz,Offene Angebote
ATTACH;FMTTYPE=image/webp:https://cyrkus.eu/wp-content/uploads/2025/04/offene-angebote-4.webp
END:VEVENT
BEGIN:VEVENT
DTSTART;TZID=Europe/Berlin:20260421T153000
DTEND;TZID=Europe/Berlin:20260421T170000
DTSTAMP:20260421T115656
CREATED:20250227T202723Z
LAST-MODIFIED:20251027T161405Z
UID:10004272-1776785400-1776790800@cyrkus.eu
SUMMARY:CYRKUS-Spiele II (5 bis 6 Jahre)
DESCRIPTION:In diesem Workshop lädt das Projekt Kinder im Vorschulalter dazu ein\, sich mit Spielerein des Ausdrucks und der eigenen Fantasien auseinanderzusetzen und zirzensische Disziplinen auszubauen\, die im Glanz des Rampenlichts aufleuchten dürfen. \nKosten: 150-200 € (auf Rückfrage\, finden wir Lösungen)
URL:https://cyrkus.eu/event/zabawy-cyrkusowe-ii-wtorki-od-1530-do-1700/2026-04-21/
LOCATION:CYRKUS DOMicil\, Conrad-Schiedt-Straße 20\, Görlitz\, Sachsen\, 02826\, Germany
CATEGORIES:Cyrkus Spiele
ATTACH;FMTTYPE=image/webp:https://cyrkus.eu/wp-content/uploads/2025/02/cyrkus-spiele-1.webp
END:VEVENT
BEGIN:VEVENT
DTSTART;TZID=Europe/Berlin:20260421T153000
DTEND;TZID=Europe/Berlin:20260421T170000
DTSTAMP:20260421T115656
CREATED:20250811T200221Z
LAST-MODIFIED:20251209T091016Z
UID:10004306-1776785400-1776790800@cyrkus.eu
SUMMARY:Tuchakrobatik I (9+)
DESCRIPTION:In schwindeliger Höhe laden wir dazu ein\, sich an die Kunst des Vertikaltuches und Trapezes heranzuwagen und gemeinsam an Kraft\, Körperspannung und Koordination zu gewinnen. Mit etwas Mut können Kinder ab 9 Jahren hoch hinaus und erlernen mit Durchhaltevermögen und Übung schnell erste Techniken für ästhetische Figuren\, die zum Staunen einladen. \nFür diejenigen\, die sich bereits körperlich mit der Tuch- und Trapezkunst auseinandergesetzt haben\, stehen die Türen für diesen Workshop offen. In diesem Kurs können sich Kinder ab 10 Jahren fortführend in dem Element der Höhe erfahren und ein präziseres Bewusstsein für ihren Körper und ihre Kraft entwickeln. \nAufgrund der hohen Nachfrage lädt das Projekt CYRKUS im Laden|w sklepie auch die Großen dazu ein\, einen Höhepunkt in ihrem Alltag mit uns zu setzen und die Kunst der Luftakrobatik zu erleben. \nKosten: 150-200 € (auf Rückfrage\, finden wir Lösungen)
URL:https://cyrkus.eu/event/tuchakrobatik-i-9-2/2026-04-21/
LOCATION:Rabryka\, Conrad-Schiedt-Str. 23\, Görlitz\, Sachsen\, 02826\, Germany
CATEGORIES:Luftakrobatik
ATTACH;FMTTYPE=image/webp:https://cyrkus.eu/wp-content/uploads/2025/03/tuch.webp
END:VEVENT
BEGIN:VEVENT
DTSTART;TZID=Europe/Berlin:20260421T173000
DTEND;TZID=Europe/Berlin:20260421T190000
DTSTAMP:20260421T115656
CREATED:20250301T153750Z
LAST-MODIFIED:20251027T163212Z
UID:10004496-1776792600-1776798000@cyrkus.eu
SUMMARY:Tuchakrobatik II (für Fortgeschrittene)
DESCRIPTION:In schwindeliger Höhe laden wir dazu ein\, sich an die Kunst des Vertikaltuches und Trapezes heranzuwagen und gemeinsam an Kraft\, Körperspannung und Koordination zu gewinnen. Mit etwas Mut können Kinder ab 9 Jahren hoch hinaus und erlernen mit Durchhaltevermögen und Übung schnell erste Techniken für ästhetische Figuren\, die zum Staunen einladen. \nFür diejenigen\, die sich bereits körperlich mit der Tuch- und Trapezkunst auseinandergesetzt haben\, stehen die Türen für diesen Workshop offen. In diesem Kurs können sich Kinder ab 10 Jahren fortführend in dem Element der Höhe erfahren und ein präziseres Bewusstsein für ihren Körper und ihre Kraft entwickeln. \nAufgrund der hohen Nachfrage lädt das Projekt CYRKUS im Laden|w sklepie auch die Großen dazu ein\, einen Höhepunkt in ihrem Alltag mit uns zu setzen und die Kunst der Luftakrobatik zu erleben. \nKosten: 150-200 € (auf Rückfrage\, finden wir Lösungen)
URL:https://cyrkus.eu/event/akrobatyki-powietrznej-i-srody-od-1530-do-1700/2026-04-21/
LOCATION:Rabryka\, Conrad-Schiedt-Str. 23\, Görlitz\, Sachsen\, 02826\, Germany
CATEGORIES:Luftakrobatik
ATTACH;FMTTYPE=image/webp:https://cyrkus.eu/wp-content/uploads/2025/03/tuch-2.webp
END:VEVENT
BEGIN:VEVENT
DTSTART;TZID=Europe/Berlin:20260421T173000
DTEND;TZID=Europe/Berlin:20260421T193000
DTSTAMP:20260421T115656
CREATED:20250811T200739Z
LAST-MODIFIED:20251209T091024Z
UID:10004397-1776792600-1776799800@cyrkus.eu
SUMMARY:Pyjama Banana
DESCRIPTION:Unser Projekt bietet die Teilnahme in internationalen Jugendgruppen an\, in der junge Menschen die Möglichkeit haben\, wertvolle Freundschaften zu schließen und ihre Horizonte zu erweitern. Dabei steht nicht nur das Erlernen neuer Zirkusfertigkeiten im Vordergrund\, sondern auch das Vertiefen und Verfeinern bereits erlernter Techniken.
URL:https://cyrkus.eu/event/pyjama-banana-dienstags-1730-bis-1930-2-2/2026-04-21/
LOCATION:CYRKUS DOMicil\, Conrad-Schiedt-Straße 20\, Görlitz\, Sachsen\, 02826\, Germany
CATEGORIES:Pyjama Banana
ATTACH;FMTTYPE=image/webp:https://cyrkus.eu/wp-content/uploads/2025/03/pyjama-banana.webp
END:VEVENT
BEGIN:VEVENT
DTSTART;TZID=Europe/Berlin:20260421T191500
DTEND;TZID=Europe/Berlin:20260421T204500
DTSTAMP:20260421T115656
CREATED:20250303T165236Z
LAST-MODIFIED:20251027T165233Z
UID:10004625-1776798900-1776804300@cyrkus.eu
SUMMARY:Tuchakrobatik Erwachsene
DESCRIPTION:In schwindeliger Höhe laden wir dazu ein\, sich an die Kunst des Vertikaltuches und Trapezes heranzuwagen und gemeinsam an Kraft\, Körperspannung und Koordination zu gewinnen. Mit etwas Mut können Kinder ab 9 Jahren hoch hinaus und erlernen mit Durchhaltevermögen und Übung schnell erste Techniken für ästhetische Figuren\, die zum Staunen einladen. \nFür diejenigen\, die sich bereits körperlich mit der Tuch- und Trapezkunst auseinandergesetzt haben\, stehen die Türen für diesen Workshop offen. In diesem Kurs können sich Kinder ab 10 Jahren fortführend in dem Element der Höhe erfahren und ein präziseres Bewusstsein für ihren Körper und ihre Kraft entwickeln. \nAufgrund der hohen Nachfrage lädt das Projekt CYRKUS im Laden|w sklepie auch die Großen dazu ein\, einen Höhepunkt in ihrem Alltag mit uns zu setzen und die Kunst der Luftakrobatik zu erleben. \nKosten: 100 € pro Halbjahr (auf Rückfrage\, finden wir Lösungen)
URL:https://cyrkus.eu/event/akrobatyki-powietrznej/2026-04-21/
LOCATION:Rabryka\, Conrad-Schiedt-Str. 23\, Görlitz\, Sachsen\, 02826\, Germany
CATEGORIES:Luftakrobatik
ATTACH;FMTTYPE=image/webp:https://cyrkus.eu/wp-content/uploads/2025/03/tuch-1.webp
END:VEVENT
BEGIN:VEVENT
DTSTART;TZID=Europe/Berlin:20260421T200000
DTEND;TZID=Europe/Berlin:20260421T220000
DTSTAMP:20260421T115656
CREATED:20250414T100003Z
LAST-MODIFIED:20250912T103300Z
UID:10003750-1776801600-1776808800@cyrkus.eu
SUMMARY:Offenes Training
DESCRIPTION:
URL:https://cyrkus.eu/event/offenes-training/2026-04-21/
LOCATION:CYRKUS DOMicil\, Conrad-Schiedt-Straße 20\, Görlitz\, Sachsen\, 02826\, Germany
CATEGORIES:Offene Angebote,Offene Angebote Erwachsene
ATTACH;FMTTYPE=image/webp:https://cyrkus.eu/wp-content/uploads/2025/03/cyrkus-dom-kultury-.webp
END:VEVENT
END:VCALENDAR