BEGIN:VCALENDAR
VERSION:2.0
PRODID:-//CYRKUS - ECPv6.15.20//NONSGML v1.0//EN
CALSCALE:GREGORIAN
METHOD:PUBLISH
X-ORIGINAL-URL:https://cyrkus.eu
X-WR-CALDESC:Veranstaltungen für CYRKUS
REFRESH-INTERVAL;VALUE=DURATION:PT1H
X-Robots-Tag:noindex
X-PUBLISHED-TTL:PT1H
BEGIN:VTIMEZONE
TZID:Europe/Berlin
BEGIN:DAYLIGHT
TZOFFSETFROM:+0100
TZOFFSETTO:+0200
TZNAME:CEST
DTSTART:20250330T010000
END:DAYLIGHT
BEGIN:STANDARD
TZOFFSETFROM:+0200
TZOFFSETTO:+0100
TZNAME:CET
DTSTART:20251026T010000
END:STANDARD
BEGIN:DAYLIGHT
TZOFFSETFROM:+0100
TZOFFSETTO:+0200
TZNAME:CEST
DTSTART:20260329T010000
END:DAYLIGHT
BEGIN:STANDARD
TZOFFSETFROM:+0200
TZOFFSETTO:+0100
TZNAME:CET
DTSTART:20261025T010000
END:STANDARD
BEGIN:DAYLIGHT
TZOFFSETFROM:+0100
TZOFFSETTO:+0200
TZNAME:CEST
DTSTART:20270328T010000
END:DAYLIGHT
BEGIN:STANDARD
TZOFFSETFROM:+0200
TZOFFSETTO:+0100
TZNAME:CET
DTSTART:20271031T010000
END:STANDARD
END:VTIMEZONE
BEGIN:VEVENT
DTSTART;TZID=Europe/Berlin:20260803T173000
DTEND;TZID=Europe/Berlin:20260803T193000
DTSTAMP:20260425T152241
CREATED:20250301T165512Z
LAST-MODIFIED:20251209T090248Z
UID:10002945-1785778200-1785785400@cyrkus.eu
SUMMARY:Jugendvarieté (14+)
DESCRIPTION:Die Juniorjugendgruppe gibt Teilnehmenden ab 12 Jahren die Möglichkeit\, ihre liebsten Zirkusdisziplinen auszubauen und sich dabei mit Gleichaltrigen weiterzuentwickeln. Die Jugendlichen gestalten eigene Auftritte und tragen einen ganz eigenen Teil zum CYRKUS bei. \nIm Jugendvarieté kommen bereits lang erprobte Zirkusartist:innen zwischen 14 und 18 Jahren zusammen\, trainieren gemeinsam und entwickeln sich weiter. Sie können sich zu Co-Workshopleitenden ausbilden und einen Beitrag zur Entwicklung des CYRKUS leisten.
URL:https://cyrkus.eu/event/juniorjugendvariete-14-montags-1730-bis-1930/2026-08-03/
LOCATION:CYRKUS DOMicil\, Conrad-Schiedt-Straße 20\, Görlitz\, Sachsen\, 02826\, Germany
CATEGORIES:Jugendvariete
ATTACH;FMTTYPE=image/webp:https://cyrkus.eu/wp-content/uploads/2025/03/jugendvariete-2.webp
END:VEVENT
BEGIN:VEVENT
DTSTART;TZID=Europe/Berlin:20260804T200000
DTEND;TZID=Europe/Berlin:20260804T220000
DTSTAMP:20260425T152241
CREATED:20250414T100003Z
LAST-MODIFIED:20250912T103300Z
UID:10003765-1785873600-1785880800@cyrkus.eu
SUMMARY:Offenes Training
DESCRIPTION:
URL:https://cyrkus.eu/event/offenes-training/2026-08-04/
LOCATION:CYRKUS DOMicil\, Conrad-Schiedt-Straße 20\, Görlitz\, Sachsen\, 02826\, Germany
CATEGORIES:Offene Angebote,Offene Angebote Erwachsene
ATTACH;FMTTYPE=image/webp:https://cyrkus.eu/wp-content/uploads/2025/03/cyrkus-dom-kultury-.webp
END:VEVENT
BEGIN:VEVENT
DTSTART;TZID=Europe/Berlin:20260810T173000
DTEND;TZID=Europe/Berlin:20260810T193000
DTSTAMP:20260425T152241
CREATED:20250301T165512Z
LAST-MODIFIED:20251209T090248Z
UID:10002946-1786383000-1786390200@cyrkus.eu
SUMMARY:Jugendvarieté (14+)
DESCRIPTION:Die Juniorjugendgruppe gibt Teilnehmenden ab 12 Jahren die Möglichkeit\, ihre liebsten Zirkusdisziplinen auszubauen und sich dabei mit Gleichaltrigen weiterzuentwickeln. Die Jugendlichen gestalten eigene Auftritte und tragen einen ganz eigenen Teil zum CYRKUS bei. \nIm Jugendvarieté kommen bereits lang erprobte Zirkusartist:innen zwischen 14 und 18 Jahren zusammen\, trainieren gemeinsam und entwickeln sich weiter. Sie können sich zu Co-Workshopleitenden ausbilden und einen Beitrag zur Entwicklung des CYRKUS leisten.
URL:https://cyrkus.eu/event/juniorjugendvariete-14-montags-1730-bis-1930/2026-08-10/
LOCATION:CYRKUS DOMicil\, Conrad-Schiedt-Straße 20\, Görlitz\, Sachsen\, 02826\, Germany
CATEGORIES:Jugendvariete
ATTACH;FMTTYPE=image/webp:https://cyrkus.eu/wp-content/uploads/2025/03/jugendvariete-2.webp
END:VEVENT
BEGIN:VEVENT
DTSTART;TZID=Europe/Berlin:20260811T200000
DTEND;TZID=Europe/Berlin:20260811T220000
DTSTAMP:20260425T152241
CREATED:20250414T100003Z
LAST-MODIFIED:20250912T103300Z
UID:10003766-1786478400-1786485600@cyrkus.eu
SUMMARY:Offenes Training
DESCRIPTION:
URL:https://cyrkus.eu/event/offenes-training/2026-08-11/
LOCATION:CYRKUS DOMicil\, Conrad-Schiedt-Straße 20\, Görlitz\, Sachsen\, 02826\, Germany
CATEGORIES:Offene Angebote,Offene Angebote Erwachsene
ATTACH;FMTTYPE=image/webp:https://cyrkus.eu/wp-content/uploads/2025/03/cyrkus-dom-kultury-.webp
END:VEVENT
BEGIN:VEVENT
DTSTART;TZID=Europe/Berlin:20260817T173000
DTEND;TZID=Europe/Berlin:20260817T193000
DTSTAMP:20260425T152241
CREATED:20250301T165512Z
LAST-MODIFIED:20251209T090248Z
UID:10002947-1786987800-1786995000@cyrkus.eu
SUMMARY:Jugendvarieté (14+)
DESCRIPTION:Die Juniorjugendgruppe gibt Teilnehmenden ab 12 Jahren die Möglichkeit\, ihre liebsten Zirkusdisziplinen auszubauen und sich dabei mit Gleichaltrigen weiterzuentwickeln. Die Jugendlichen gestalten eigene Auftritte und tragen einen ganz eigenen Teil zum CYRKUS bei. \nIm Jugendvarieté kommen bereits lang erprobte Zirkusartist:innen zwischen 14 und 18 Jahren zusammen\, trainieren gemeinsam und entwickeln sich weiter. Sie können sich zu Co-Workshopleitenden ausbilden und einen Beitrag zur Entwicklung des CYRKUS leisten.
URL:https://cyrkus.eu/event/juniorjugendvariete-14-montags-1730-bis-1930/2026-08-17/
LOCATION:CYRKUS DOMicil\, Conrad-Schiedt-Straße 20\, Görlitz\, Sachsen\, 02826\, Germany
CATEGORIES:Jugendvariete
ATTACH;FMTTYPE=image/webp:https://cyrkus.eu/wp-content/uploads/2025/03/jugendvariete-2.webp
END:VEVENT
BEGIN:VEVENT
DTSTART;TZID=Europe/Berlin:20260818T200000
DTEND;TZID=Europe/Berlin:20260818T220000
DTSTAMP:20260425T152241
CREATED:20250414T100003Z
LAST-MODIFIED:20250912T103300Z
UID:10003767-1787083200-1787090400@cyrkus.eu
SUMMARY:Offenes Training
DESCRIPTION:
URL:https://cyrkus.eu/event/offenes-training/2026-08-18/
LOCATION:CYRKUS DOMicil\, Conrad-Schiedt-Straße 20\, Görlitz\, Sachsen\, 02826\, Germany
CATEGORIES:Offene Angebote,Offene Angebote Erwachsene
ATTACH;FMTTYPE=image/webp:https://cyrkus.eu/wp-content/uploads/2025/03/cyrkus-dom-kultury-.webp
END:VEVENT
BEGIN:VEVENT
DTSTART;TZID=Europe/Berlin:20260824T173000
DTEND;TZID=Europe/Berlin:20260824T193000
DTSTAMP:20260425T152241
CREATED:20250301T165512Z
LAST-MODIFIED:20251209T090248Z
UID:10002948-1787592600-1787599800@cyrkus.eu
SUMMARY:Jugendvarieté (14+)
DESCRIPTION:Die Juniorjugendgruppe gibt Teilnehmenden ab 12 Jahren die Möglichkeit\, ihre liebsten Zirkusdisziplinen auszubauen und sich dabei mit Gleichaltrigen weiterzuentwickeln. Die Jugendlichen gestalten eigene Auftritte und tragen einen ganz eigenen Teil zum CYRKUS bei. \nIm Jugendvarieté kommen bereits lang erprobte Zirkusartist:innen zwischen 14 und 18 Jahren zusammen\, trainieren gemeinsam und entwickeln sich weiter. Sie können sich zu Co-Workshopleitenden ausbilden und einen Beitrag zur Entwicklung des CYRKUS leisten.
URL:https://cyrkus.eu/event/juniorjugendvariete-14-montags-1730-bis-1930/2026-08-24/
LOCATION:CYRKUS DOMicil\, Conrad-Schiedt-Straße 20\, Görlitz\, Sachsen\, 02826\, Germany
CATEGORIES:Jugendvariete
ATTACH;FMTTYPE=image/webp:https://cyrkus.eu/wp-content/uploads/2025/03/jugendvariete-2.webp
END:VEVENT
BEGIN:VEVENT
DTSTART;TZID=Europe/Berlin:20260825T200000
DTEND;TZID=Europe/Berlin:20260825T220000
DTSTAMP:20260425T152241
CREATED:20250414T100003Z
LAST-MODIFIED:20250912T103300Z
UID:10003768-1787688000-1787695200@cyrkus.eu
SUMMARY:Offenes Training
DESCRIPTION:
URL:https://cyrkus.eu/event/offenes-training/2026-08-25/
LOCATION:CYRKUS DOMicil\, Conrad-Schiedt-Straße 20\, Görlitz\, Sachsen\, 02826\, Germany
CATEGORIES:Offene Angebote,Offene Angebote Erwachsene
ATTACH;FMTTYPE=image/webp:https://cyrkus.eu/wp-content/uploads/2025/03/cyrkus-dom-kultury-.webp
END:VEVENT
BEGIN:VEVENT
DTSTART;TZID=Europe/Berlin:20260831T173000
DTEND;TZID=Europe/Berlin:20260831T193000
DTSTAMP:20260425T152241
CREATED:20250301T165512Z
LAST-MODIFIED:20251209T090248Z
UID:10002949-1788197400-1788204600@cyrkus.eu
SUMMARY:Jugendvarieté (14+)
DESCRIPTION:Die Juniorjugendgruppe gibt Teilnehmenden ab 12 Jahren die Möglichkeit\, ihre liebsten Zirkusdisziplinen auszubauen und sich dabei mit Gleichaltrigen weiterzuentwickeln. Die Jugendlichen gestalten eigene Auftritte und tragen einen ganz eigenen Teil zum CYRKUS bei. \nIm Jugendvarieté kommen bereits lang erprobte Zirkusartist:innen zwischen 14 und 18 Jahren zusammen\, trainieren gemeinsam und entwickeln sich weiter. Sie können sich zu Co-Workshopleitenden ausbilden und einen Beitrag zur Entwicklung des CYRKUS leisten.
URL:https://cyrkus.eu/event/juniorjugendvariete-14-montags-1730-bis-1930/2026-08-31/
LOCATION:CYRKUS DOMicil\, Conrad-Schiedt-Straße 20\, Görlitz\, Sachsen\, 02826\, Germany
CATEGORIES:Jugendvariete
ATTACH;FMTTYPE=image/webp:https://cyrkus.eu/wp-content/uploads/2025/03/jugendvariete-2.webp
END:VEVENT
END:VCALENDAR