BEGIN:VCALENDAR
VERSION:2.0
PRODID:-//CYRKUS - ECPv6.15.20//NONSGML v1.0//EN
CALSCALE:GREGORIAN
METHOD:PUBLISH
X-WR-CALNAME:CYRKUS
X-ORIGINAL-URL:https://cyrkus.eu
X-WR-CALDESC:Veranstaltungen für CYRKUS
REFRESH-INTERVAL;VALUE=DURATION:PT1H
X-Robots-Tag:noindex
X-PUBLISHED-TTL:PT1H
BEGIN:VTIMEZONE
TZID:Europe/Berlin
BEGIN:DAYLIGHT
TZOFFSETFROM:+0100
TZOFFSETTO:+0200
TZNAME:CEST
DTSTART:20250330T010000
END:DAYLIGHT
BEGIN:STANDARD
TZOFFSETFROM:+0200
TZOFFSETTO:+0100
TZNAME:CET
DTSTART:20251026T010000
END:STANDARD
BEGIN:DAYLIGHT
TZOFFSETFROM:+0100
TZOFFSETTO:+0200
TZNAME:CEST
DTSTART:20260329T010000
END:DAYLIGHT
BEGIN:STANDARD
TZOFFSETFROM:+0200
TZOFFSETTO:+0100
TZNAME:CET
DTSTART:20261025T010000
END:STANDARD
BEGIN:DAYLIGHT
TZOFFSETFROM:+0100
TZOFFSETTO:+0200
TZNAME:CEST
DTSTART:20270328T010000
END:DAYLIGHT
BEGIN:STANDARD
TZOFFSETFROM:+0200
TZOFFSETTO:+0100
TZNAME:CET
DTSTART:20271031T010000
END:STANDARD
END:VTIMEZONE
BEGIN:VEVENT
DTSTART;TZID=Europe/Berlin:20260901T200000
DTEND;TZID=Europe/Berlin:20260901T220000
DTSTAMP:20260425T170508
CREATED:20250414T100003Z
LAST-MODIFIED:20250912T103300Z
UID:10003769-1788292800-1788300000@cyrkus.eu
SUMMARY:Offenes Training
DESCRIPTION:
URL:https://cyrkus.eu/event/offenes-training/2026-09-01/
LOCATION:CYRKUS DOMicil\, Conrad-Schiedt-Straße 20\, Görlitz\, Sachsen\, 02826\, Germany
CATEGORIES:Offene Angebote,Offene Angebote Erwachsene
ATTACH;FMTTYPE=image/webp:https://cyrkus.eu/wp-content/uploads/2025/03/cyrkus-dom-kultury-.webp
END:VEVENT
BEGIN:VEVENT
DTSTART;TZID=Europe/Berlin:20260907T173000
DTEND;TZID=Europe/Berlin:20260907T193000
DTSTAMP:20260425T170508
CREATED:20250301T165512Z
LAST-MODIFIED:20251209T090248Z
UID:10002950-1788802200-1788809400@cyrkus.eu
SUMMARY:Jugendvarieté (14+)
DESCRIPTION:Die Juniorjugendgruppe gibt Teilnehmenden ab 12 Jahren die Möglichkeit\, ihre liebsten Zirkusdisziplinen auszubauen und sich dabei mit Gleichaltrigen weiterzuentwickeln. Die Jugendlichen gestalten eigene Auftritte und tragen einen ganz eigenen Teil zum CYRKUS bei. \nIm Jugendvarieté kommen bereits lang erprobte Zirkusartist:innen zwischen 14 und 18 Jahren zusammen\, trainieren gemeinsam und entwickeln sich weiter. Sie können sich zu Co-Workshopleitenden ausbilden und einen Beitrag zur Entwicklung des CYRKUS leisten.
URL:https://cyrkus.eu/event/juniorjugendvariete-14-montags-1730-bis-1930/2026-09-07/
LOCATION:CYRKUS DOMicil\, Conrad-Schiedt-Straße 20\, Görlitz\, Sachsen\, 02826\, Germany
CATEGORIES:Jugendvariete
ATTACH;FMTTYPE=image/webp:https://cyrkus.eu/wp-content/uploads/2025/03/jugendvariete-2.webp
END:VEVENT
BEGIN:VEVENT
DTSTART;TZID=Europe/Berlin:20260908T200000
DTEND;TZID=Europe/Berlin:20260908T220000
DTSTAMP:20260425T170508
CREATED:20250414T100003Z
LAST-MODIFIED:20250912T103300Z
UID:10003770-1788897600-1788904800@cyrkus.eu
SUMMARY:Offenes Training
DESCRIPTION:
URL:https://cyrkus.eu/event/offenes-training/2026-09-08/
LOCATION:CYRKUS DOMicil\, Conrad-Schiedt-Straße 20\, Görlitz\, Sachsen\, 02826\, Germany
CATEGORIES:Offene Angebote,Offene Angebote Erwachsene
ATTACH;FMTTYPE=image/webp:https://cyrkus.eu/wp-content/uploads/2025/03/cyrkus-dom-kultury-.webp
END:VEVENT
BEGIN:VEVENT
DTSTART;TZID=Europe/Berlin:20260914T173000
DTEND;TZID=Europe/Berlin:20260914T193000
DTSTAMP:20260425T170508
CREATED:20250301T165512Z
LAST-MODIFIED:20251209T090248Z
UID:10002951-1789407000-1789414200@cyrkus.eu
SUMMARY:Jugendvarieté (14+)
DESCRIPTION:Die Juniorjugendgruppe gibt Teilnehmenden ab 12 Jahren die Möglichkeit\, ihre liebsten Zirkusdisziplinen auszubauen und sich dabei mit Gleichaltrigen weiterzuentwickeln. Die Jugendlichen gestalten eigene Auftritte und tragen einen ganz eigenen Teil zum CYRKUS bei. \nIm Jugendvarieté kommen bereits lang erprobte Zirkusartist:innen zwischen 14 und 18 Jahren zusammen\, trainieren gemeinsam und entwickeln sich weiter. Sie können sich zu Co-Workshopleitenden ausbilden und einen Beitrag zur Entwicklung des CYRKUS leisten.
URL:https://cyrkus.eu/event/juniorjugendvariete-14-montags-1730-bis-1930/2026-09-14/
LOCATION:CYRKUS DOMicil\, Conrad-Schiedt-Straße 20\, Görlitz\, Sachsen\, 02826\, Germany
CATEGORIES:Jugendvariete
ATTACH;FMTTYPE=image/webp:https://cyrkus.eu/wp-content/uploads/2025/03/jugendvariete-2.webp
END:VEVENT
BEGIN:VEVENT
DTSTART;TZID=Europe/Berlin:20260915T200000
DTEND;TZID=Europe/Berlin:20260915T220000
DTSTAMP:20260425T170509
CREATED:20250414T100003Z
LAST-MODIFIED:20250912T103300Z
UID:10003771-1789502400-1789509600@cyrkus.eu
SUMMARY:Offenes Training
DESCRIPTION:
URL:https://cyrkus.eu/event/offenes-training/2026-09-15/
LOCATION:CYRKUS DOMicil\, Conrad-Schiedt-Straße 20\, Görlitz\, Sachsen\, 02826\, Germany
CATEGORIES:Offene Angebote,Offene Angebote Erwachsene
ATTACH;FMTTYPE=image/webp:https://cyrkus.eu/wp-content/uploads/2025/03/cyrkus-dom-kultury-.webp
END:VEVENT
BEGIN:VEVENT
DTSTART;TZID=Europe/Berlin:20260921T173000
DTEND;TZID=Europe/Berlin:20260921T193000
DTSTAMP:20260425T170509
CREATED:20250301T165512Z
LAST-MODIFIED:20251209T090248Z
UID:10002952-1790011800-1790019000@cyrkus.eu
SUMMARY:Jugendvarieté (14+)
DESCRIPTION:Die Juniorjugendgruppe gibt Teilnehmenden ab 12 Jahren die Möglichkeit\, ihre liebsten Zirkusdisziplinen auszubauen und sich dabei mit Gleichaltrigen weiterzuentwickeln. Die Jugendlichen gestalten eigene Auftritte und tragen einen ganz eigenen Teil zum CYRKUS bei. \nIm Jugendvarieté kommen bereits lang erprobte Zirkusartist:innen zwischen 14 und 18 Jahren zusammen\, trainieren gemeinsam und entwickeln sich weiter. Sie können sich zu Co-Workshopleitenden ausbilden und einen Beitrag zur Entwicklung des CYRKUS leisten.
URL:https://cyrkus.eu/event/juniorjugendvariete-14-montags-1730-bis-1930/2026-09-21/
LOCATION:CYRKUS DOMicil\, Conrad-Schiedt-Straße 20\, Görlitz\, Sachsen\, 02826\, Germany
CATEGORIES:Jugendvariete
ATTACH;FMTTYPE=image/webp:https://cyrkus.eu/wp-content/uploads/2025/03/jugendvariete-2.webp
END:VEVENT
BEGIN:VEVENT
DTSTART;TZID=Europe/Berlin:20260922T200000
DTEND;TZID=Europe/Berlin:20260922T220000
DTSTAMP:20260425T170509
CREATED:20250414T100003Z
LAST-MODIFIED:20250912T103300Z
UID:10003772-1790107200-1790114400@cyrkus.eu
SUMMARY:Offenes Training
DESCRIPTION:
URL:https://cyrkus.eu/event/offenes-training/2026-09-22/
LOCATION:CYRKUS DOMicil\, Conrad-Schiedt-Straße 20\, Görlitz\, Sachsen\, 02826\, Germany
CATEGORIES:Offene Angebote,Offene Angebote Erwachsene
ATTACH;FMTTYPE=image/webp:https://cyrkus.eu/wp-content/uploads/2025/03/cyrkus-dom-kultury-.webp
END:VEVENT
BEGIN:VEVENT
DTSTART;TZID=Europe/Berlin:20260928T173000
DTEND;TZID=Europe/Berlin:20260928T193000
DTSTAMP:20260425T170509
CREATED:20250301T165512Z
LAST-MODIFIED:20251209T090248Z
UID:10002953-1790616600-1790623800@cyrkus.eu
SUMMARY:Jugendvarieté (14+)
DESCRIPTION:Die Juniorjugendgruppe gibt Teilnehmenden ab 12 Jahren die Möglichkeit\, ihre liebsten Zirkusdisziplinen auszubauen und sich dabei mit Gleichaltrigen weiterzuentwickeln. Die Jugendlichen gestalten eigene Auftritte und tragen einen ganz eigenen Teil zum CYRKUS bei. \nIm Jugendvarieté kommen bereits lang erprobte Zirkusartist:innen zwischen 14 und 18 Jahren zusammen\, trainieren gemeinsam und entwickeln sich weiter. Sie können sich zu Co-Workshopleitenden ausbilden und einen Beitrag zur Entwicklung des CYRKUS leisten.
URL:https://cyrkus.eu/event/juniorjugendvariete-14-montags-1730-bis-1930/2026-09-28/
LOCATION:CYRKUS DOMicil\, Conrad-Schiedt-Straße 20\, Görlitz\, Sachsen\, 02826\, Germany
CATEGORIES:Jugendvariete
ATTACH;FMTTYPE=image/webp:https://cyrkus.eu/wp-content/uploads/2025/03/jugendvariete-2.webp
END:VEVENT
BEGIN:VEVENT
DTSTART;TZID=Europe/Berlin:20260929T200000
DTEND;TZID=Europe/Berlin:20260929T220000
DTSTAMP:20260425T170509
CREATED:20250414T100003Z
LAST-MODIFIED:20250912T103300Z
UID:10003773-1790712000-1790719200@cyrkus.eu
SUMMARY:Offenes Training
DESCRIPTION:
URL:https://cyrkus.eu/event/offenes-training/2026-09-29/
LOCATION:CYRKUS DOMicil\, Conrad-Schiedt-Straße 20\, Görlitz\, Sachsen\, 02826\, Germany
CATEGORIES:Offene Angebote,Offene Angebote Erwachsene
ATTACH;FMTTYPE=image/webp:https://cyrkus.eu/wp-content/uploads/2025/03/cyrkus-dom-kultury-.webp
END:VEVENT
END:VCALENDAR