BEGIN:VCALENDAR
VERSION:2.0
PRODID:-//CYRKUS - ECPv6.15.20//NONSGML v1.0//EN
CALSCALE:GREGORIAN
METHOD:PUBLISH
X-WR-CALNAME:CYRKUS
X-ORIGINAL-URL:https://cyrkus.eu
X-WR-CALDESC:Veranstaltungen für CYRKUS
REFRESH-INTERVAL;VALUE=DURATION:PT1H
X-Robots-Tag:noindex
X-PUBLISHED-TTL:PT1H
BEGIN:VTIMEZONE
TZID:Europe/Berlin
BEGIN:DAYLIGHT
TZOFFSETFROM:+0100
TZOFFSETTO:+0200
TZNAME:CEST
DTSTART:20250330T010000
END:DAYLIGHT
BEGIN:STANDARD
TZOFFSETFROM:+0200
TZOFFSETTO:+0100
TZNAME:CET
DTSTART:20251026T010000
END:STANDARD
BEGIN:DAYLIGHT
TZOFFSETFROM:+0100
TZOFFSETTO:+0200
TZNAME:CEST
DTSTART:20260329T010000
END:DAYLIGHT
BEGIN:STANDARD
TZOFFSETFROM:+0200
TZOFFSETTO:+0100
TZNAME:CET
DTSTART:20261025T010000
END:STANDARD
BEGIN:DAYLIGHT
TZOFFSETFROM:+0100
TZOFFSETTO:+0200
TZNAME:CEST
DTSTART:20270328T010000
END:DAYLIGHT
BEGIN:STANDARD
TZOFFSETFROM:+0200
TZOFFSETTO:+0100
TZNAME:CET
DTSTART:20271031T010000
END:STANDARD
END:VTIMEZONE
BEGIN:VEVENT
DTSTART;TZID=Europe/Berlin:20260428T200000
DTEND;TZID=Europe/Berlin:20260428T220000
DTSTAMP:20260422T010645
CREATED:20250414T100003Z
LAST-MODIFIED:20250912T103300Z
UID:10003751-1777406400-1777413600@cyrkus.eu
SUMMARY:Offenes Training
DESCRIPTION:
URL:https://cyrkus.eu/event/offenes-training/2026-04-28/
LOCATION:CYRKUS DOMicil\, Conrad-Schiedt-Straße 20\, Görlitz\, Sachsen\, 02826\, Germany
CATEGORIES:Offene Angebote,Offene Angebote Erwachsene
ATTACH;FMTTYPE=image/webp:https://cyrkus.eu/wp-content/uploads/2025/03/cyrkus-dom-kultury-.webp
END:VEVENT
BEGIN:VEVENT
DTSTART;TZID=Europe/Berlin:20260505T200000
DTEND;TZID=Europe/Berlin:20260505T220000
DTSTAMP:20260422T010645
CREATED:20250414T100003Z
LAST-MODIFIED:20250912T103300Z
UID:10003752-1778011200-1778018400@cyrkus.eu
SUMMARY:Offenes Training
DESCRIPTION:
URL:https://cyrkus.eu/event/offenes-training/2026-05-05/
LOCATION:CYRKUS DOMicil\, Conrad-Schiedt-Straße 20\, Görlitz\, Sachsen\, 02826\, Germany
CATEGORIES:Offene Angebote,Offene Angebote Erwachsene
ATTACH;FMTTYPE=image/webp:https://cyrkus.eu/wp-content/uploads/2025/03/cyrkus-dom-kultury-.webp
END:VEVENT
BEGIN:VEVENT
DTSTART;TZID=Europe/Berlin:20260512T200000
DTEND;TZID=Europe/Berlin:20260512T220000
DTSTAMP:20260422T010645
CREATED:20250414T100003Z
LAST-MODIFIED:20250912T103300Z
UID:10003753-1778616000-1778623200@cyrkus.eu
SUMMARY:Offenes Training
DESCRIPTION:
URL:https://cyrkus.eu/event/offenes-training/2026-05-12/
LOCATION:CYRKUS DOMicil\, Conrad-Schiedt-Straße 20\, Görlitz\, Sachsen\, 02826\, Germany
CATEGORIES:Offene Angebote,Offene Angebote Erwachsene
ATTACH;FMTTYPE=image/webp:https://cyrkus.eu/wp-content/uploads/2025/03/cyrkus-dom-kultury-.webp
END:VEVENT
BEGIN:VEVENT
DTSTART;TZID=Europe/Berlin:20260519T200000
DTEND;TZID=Europe/Berlin:20260519T220000
DTSTAMP:20260422T010645
CREATED:20250414T100003Z
LAST-MODIFIED:20250912T103300Z
UID:10003754-1779220800-1779228000@cyrkus.eu
SUMMARY:Offenes Training
DESCRIPTION:
URL:https://cyrkus.eu/event/offenes-training/2026-05-19/
LOCATION:CYRKUS DOMicil\, Conrad-Schiedt-Straße 20\, Görlitz\, Sachsen\, 02826\, Germany
CATEGORIES:Offene Angebote,Offene Angebote Erwachsene
ATTACH;FMTTYPE=image/webp:https://cyrkus.eu/wp-content/uploads/2025/03/cyrkus-dom-kultury-.webp
END:VEVENT
BEGIN:VEVENT
DTSTART;TZID=Europe/Berlin:20260526T200000
DTEND;TZID=Europe/Berlin:20260526T220000
DTSTAMP:20260422T010645
CREATED:20250414T100003Z
LAST-MODIFIED:20250912T103300Z
UID:10003755-1779825600-1779832800@cyrkus.eu
SUMMARY:Offenes Training
DESCRIPTION:
URL:https://cyrkus.eu/event/offenes-training/2026-05-26/
LOCATION:CYRKUS DOMicil\, Conrad-Schiedt-Straße 20\, Görlitz\, Sachsen\, 02826\, Germany
CATEGORIES:Offene Angebote,Offene Angebote Erwachsene
ATTACH;FMTTYPE=image/webp:https://cyrkus.eu/wp-content/uploads/2025/03/cyrkus-dom-kultury-.webp
END:VEVENT
BEGIN:VEVENT
DTSTART;TZID=Europe/Berlin:20260602T200000
DTEND;TZID=Europe/Berlin:20260602T220000
DTSTAMP:20260422T010645
CREATED:20250414T100003Z
LAST-MODIFIED:20250912T103300Z
UID:10003756-1780430400-1780437600@cyrkus.eu
SUMMARY:Offenes Training
DESCRIPTION:
URL:https://cyrkus.eu/event/offenes-training/2026-06-02/
LOCATION:CYRKUS DOMicil\, Conrad-Schiedt-Straße 20\, Görlitz\, Sachsen\, 02826\, Germany
CATEGORIES:Offene Angebote,Offene Angebote Erwachsene
ATTACH;FMTTYPE=image/webp:https://cyrkus.eu/wp-content/uploads/2025/03/cyrkus-dom-kultury-.webp
END:VEVENT
BEGIN:VEVENT
DTSTART;TZID=Europe/Berlin:20260609T200000
DTEND;TZID=Europe/Berlin:20260609T220000
DTSTAMP:20260422T010645
CREATED:20250414T100003Z
LAST-MODIFIED:20250912T103300Z
UID:10003757-1781035200-1781042400@cyrkus.eu
SUMMARY:Offenes Training
DESCRIPTION:
URL:https://cyrkus.eu/event/offenes-training/2026-06-09/
LOCATION:CYRKUS DOMicil\, Conrad-Schiedt-Straße 20\, Görlitz\, Sachsen\, 02826\, Germany
CATEGORIES:Offene Angebote,Offene Angebote Erwachsene
ATTACH;FMTTYPE=image/webp:https://cyrkus.eu/wp-content/uploads/2025/03/cyrkus-dom-kultury-.webp
END:VEVENT
BEGIN:VEVENT
DTSTART;TZID=Europe/Berlin:20260616T200000
DTEND;TZID=Europe/Berlin:20260616T220000
DTSTAMP:20260422T010645
CREATED:20250414T100003Z
LAST-MODIFIED:20250912T103300Z
UID:10003758-1781640000-1781647200@cyrkus.eu
SUMMARY:Offenes Training
DESCRIPTION:
URL:https://cyrkus.eu/event/offenes-training/2026-06-16/
LOCATION:CYRKUS DOMicil\, Conrad-Schiedt-Straße 20\, Görlitz\, Sachsen\, 02826\, Germany
CATEGORIES:Offene Angebote,Offene Angebote Erwachsene
ATTACH;FMTTYPE=image/webp:https://cyrkus.eu/wp-content/uploads/2025/03/cyrkus-dom-kultury-.webp
END:VEVENT
BEGIN:VEVENT
DTSTART;TZID=Europe/Berlin:20260623T200000
DTEND;TZID=Europe/Berlin:20260623T220000
DTSTAMP:20260422T010645
CREATED:20250414T100003Z
LAST-MODIFIED:20250912T103300Z
UID:10003759-1782244800-1782252000@cyrkus.eu
SUMMARY:Offenes Training
DESCRIPTION:
URL:https://cyrkus.eu/event/offenes-training/2026-06-23/
LOCATION:CYRKUS DOMicil\, Conrad-Schiedt-Straße 20\, Görlitz\, Sachsen\, 02826\, Germany
CATEGORIES:Offene Angebote,Offene Angebote Erwachsene
ATTACH;FMTTYPE=image/webp:https://cyrkus.eu/wp-content/uploads/2025/03/cyrkus-dom-kultury-.webp
END:VEVENT
BEGIN:VEVENT
DTSTART;TZID=Europe/Berlin:20260630T200000
DTEND;TZID=Europe/Berlin:20260630T220000
DTSTAMP:20260422T010645
CREATED:20250414T100003Z
LAST-MODIFIED:20250912T103300Z
UID:10003760-1782849600-1782856800@cyrkus.eu
SUMMARY:Offenes Training
DESCRIPTION:
URL:https://cyrkus.eu/event/offenes-training/2026-06-30/
LOCATION:CYRKUS DOMicil\, Conrad-Schiedt-Straße 20\, Görlitz\, Sachsen\, 02826\, Germany
CATEGORIES:Offene Angebote,Offene Angebote Erwachsene
ATTACH;FMTTYPE=image/webp:https://cyrkus.eu/wp-content/uploads/2025/03/cyrkus-dom-kultury-.webp
END:VEVENT
BEGIN:VEVENT
DTSTART;TZID=Europe/Berlin:20260707T200000
DTEND;TZID=Europe/Berlin:20260707T220000
DTSTAMP:20260422T010645
CREATED:20250414T100003Z
LAST-MODIFIED:20250912T103300Z
UID:10003761-1783454400-1783461600@cyrkus.eu
SUMMARY:Offenes Training
DESCRIPTION:
URL:https://cyrkus.eu/event/offenes-training/2026-07-07/
LOCATION:CYRKUS DOMicil\, Conrad-Schiedt-Straße 20\, Görlitz\, Sachsen\, 02826\, Germany
CATEGORIES:Offene Angebote,Offene Angebote Erwachsene
ATTACH;FMTTYPE=image/webp:https://cyrkus.eu/wp-content/uploads/2025/03/cyrkus-dom-kultury-.webp
END:VEVENT
BEGIN:VEVENT
DTSTART;TZID=Europe/Berlin:20260714T200000
DTEND;TZID=Europe/Berlin:20260714T220000
DTSTAMP:20260422T010645
CREATED:20250414T100003Z
LAST-MODIFIED:20250912T103300Z
UID:10003762-1784059200-1784066400@cyrkus.eu
SUMMARY:Offenes Training
DESCRIPTION:
URL:https://cyrkus.eu/event/offenes-training/2026-07-14/
LOCATION:CYRKUS DOMicil\, Conrad-Schiedt-Straße 20\, Görlitz\, Sachsen\, 02826\, Germany
CATEGORIES:Offene Angebote,Offene Angebote Erwachsene
ATTACH;FMTTYPE=image/webp:https://cyrkus.eu/wp-content/uploads/2025/03/cyrkus-dom-kultury-.webp
END:VEVENT
BEGIN:VEVENT
DTSTART;TZID=Europe/Berlin:20260721T200000
DTEND;TZID=Europe/Berlin:20260721T220000
DTSTAMP:20260422T010645
CREATED:20250414T100003Z
LAST-MODIFIED:20250912T103300Z
UID:10003763-1784664000-1784671200@cyrkus.eu
SUMMARY:Offenes Training
DESCRIPTION:
URL:https://cyrkus.eu/event/offenes-training/2026-07-21/
LOCATION:CYRKUS DOMicil\, Conrad-Schiedt-Straße 20\, Görlitz\, Sachsen\, 02826\, Germany
CATEGORIES:Offene Angebote,Offene Angebote Erwachsene
ATTACH;FMTTYPE=image/webp:https://cyrkus.eu/wp-content/uploads/2025/03/cyrkus-dom-kultury-.webp
END:VEVENT
BEGIN:VEVENT
DTSTART;TZID=Europe/Berlin:20260728T200000
DTEND;TZID=Europe/Berlin:20260728T220000
DTSTAMP:20260422T010645
CREATED:20250414T100003Z
LAST-MODIFIED:20250912T103300Z
UID:10003764-1785268800-1785276000@cyrkus.eu
SUMMARY:Offenes Training
DESCRIPTION:
URL:https://cyrkus.eu/event/offenes-training/2026-07-28/
LOCATION:CYRKUS DOMicil\, Conrad-Schiedt-Straße 20\, Görlitz\, Sachsen\, 02826\, Germany
CATEGORIES:Offene Angebote,Offene Angebote Erwachsene
ATTACH;FMTTYPE=image/webp:https://cyrkus.eu/wp-content/uploads/2025/03/cyrkus-dom-kultury-.webp
END:VEVENT
BEGIN:VEVENT
DTSTART;TZID=Europe/Berlin:20260804T200000
DTEND;TZID=Europe/Berlin:20260804T220000
DTSTAMP:20260422T010645
CREATED:20250414T100003Z
LAST-MODIFIED:20250912T103300Z
UID:10003765-1785873600-1785880800@cyrkus.eu
SUMMARY:Offenes Training
DESCRIPTION:
URL:https://cyrkus.eu/event/offenes-training/2026-08-04/
LOCATION:CYRKUS DOMicil\, Conrad-Schiedt-Straße 20\, Görlitz\, Sachsen\, 02826\, Germany
CATEGORIES:Offene Angebote,Offene Angebote Erwachsene
ATTACH;FMTTYPE=image/webp:https://cyrkus.eu/wp-content/uploads/2025/03/cyrkus-dom-kultury-.webp
END:VEVENT
BEGIN:VEVENT
DTSTART;TZID=Europe/Berlin:20260811T200000
DTEND;TZID=Europe/Berlin:20260811T220000
DTSTAMP:20260422T010645
CREATED:20250414T100003Z
LAST-MODIFIED:20250912T103300Z
UID:10003766-1786478400-1786485600@cyrkus.eu
SUMMARY:Offenes Training
DESCRIPTION:
URL:https://cyrkus.eu/event/offenes-training/2026-08-11/
LOCATION:CYRKUS DOMicil\, Conrad-Schiedt-Straße 20\, Görlitz\, Sachsen\, 02826\, Germany
CATEGORIES:Offene Angebote,Offene Angebote Erwachsene
ATTACH;FMTTYPE=image/webp:https://cyrkus.eu/wp-content/uploads/2025/03/cyrkus-dom-kultury-.webp
END:VEVENT
BEGIN:VEVENT
DTSTART;TZID=Europe/Berlin:20260818T200000
DTEND;TZID=Europe/Berlin:20260818T220000
DTSTAMP:20260422T010645
CREATED:20250414T100003Z
LAST-MODIFIED:20250912T103300Z
UID:10003767-1787083200-1787090400@cyrkus.eu
SUMMARY:Offenes Training
DESCRIPTION:
URL:https://cyrkus.eu/event/offenes-training/2026-08-18/
LOCATION:CYRKUS DOMicil\, Conrad-Schiedt-Straße 20\, Görlitz\, Sachsen\, 02826\, Germany
CATEGORIES:Offene Angebote,Offene Angebote Erwachsene
ATTACH;FMTTYPE=image/webp:https://cyrkus.eu/wp-content/uploads/2025/03/cyrkus-dom-kultury-.webp
END:VEVENT
BEGIN:VEVENT
DTSTART;TZID=Europe/Berlin:20260825T200000
DTEND;TZID=Europe/Berlin:20260825T220000
DTSTAMP:20260422T010645
CREATED:20250414T100003Z
LAST-MODIFIED:20250912T103300Z
UID:10003768-1787688000-1787695200@cyrkus.eu
SUMMARY:Offenes Training
DESCRIPTION:
URL:https://cyrkus.eu/event/offenes-training/2026-08-25/
LOCATION:CYRKUS DOMicil\, Conrad-Schiedt-Straße 20\, Görlitz\, Sachsen\, 02826\, Germany
CATEGORIES:Offene Angebote,Offene Angebote Erwachsene
ATTACH;FMTTYPE=image/webp:https://cyrkus.eu/wp-content/uploads/2025/03/cyrkus-dom-kultury-.webp
END:VEVENT
BEGIN:VEVENT
DTSTART;TZID=Europe/Berlin:20260901T200000
DTEND;TZID=Europe/Berlin:20260901T220000
DTSTAMP:20260422T010645
CREATED:20250414T100003Z
LAST-MODIFIED:20250912T103300Z
UID:10003769-1788292800-1788300000@cyrkus.eu
SUMMARY:Offenes Training
DESCRIPTION:
URL:https://cyrkus.eu/event/offenes-training/2026-09-01/
LOCATION:CYRKUS DOMicil\, Conrad-Schiedt-Straße 20\, Görlitz\, Sachsen\, 02826\, Germany
CATEGORIES:Offene Angebote,Offene Angebote Erwachsene
ATTACH;FMTTYPE=image/webp:https://cyrkus.eu/wp-content/uploads/2025/03/cyrkus-dom-kultury-.webp
END:VEVENT
BEGIN:VEVENT
DTSTART;TZID=Europe/Berlin:20260908T200000
DTEND;TZID=Europe/Berlin:20260908T220000
DTSTAMP:20260422T010645
CREATED:20250414T100003Z
LAST-MODIFIED:20250912T103300Z
UID:10003770-1788897600-1788904800@cyrkus.eu
SUMMARY:Offenes Training
DESCRIPTION:
URL:https://cyrkus.eu/event/offenes-training/2026-09-08/
LOCATION:CYRKUS DOMicil\, Conrad-Schiedt-Straße 20\, Görlitz\, Sachsen\, 02826\, Germany
CATEGORIES:Offene Angebote,Offene Angebote Erwachsene
ATTACH;FMTTYPE=image/webp:https://cyrkus.eu/wp-content/uploads/2025/03/cyrkus-dom-kultury-.webp
END:VEVENT
BEGIN:VEVENT
DTSTART;TZID=Europe/Berlin:20260915T200000
DTEND;TZID=Europe/Berlin:20260915T220000
DTSTAMP:20260422T010645
CREATED:20250414T100003Z
LAST-MODIFIED:20250912T103300Z
UID:10003771-1789502400-1789509600@cyrkus.eu
SUMMARY:Offenes Training
DESCRIPTION:
URL:https://cyrkus.eu/event/offenes-training/2026-09-15/
LOCATION:CYRKUS DOMicil\, Conrad-Schiedt-Straße 20\, Görlitz\, Sachsen\, 02826\, Germany
CATEGORIES:Offene Angebote,Offene Angebote Erwachsene
ATTACH;FMTTYPE=image/webp:https://cyrkus.eu/wp-content/uploads/2025/03/cyrkus-dom-kultury-.webp
END:VEVENT
BEGIN:VEVENT
DTSTART;TZID=Europe/Berlin:20260922T200000
DTEND;TZID=Europe/Berlin:20260922T220000
DTSTAMP:20260422T010645
CREATED:20250414T100003Z
LAST-MODIFIED:20250912T103300Z
UID:10003772-1790107200-1790114400@cyrkus.eu
SUMMARY:Offenes Training
DESCRIPTION:
URL:https://cyrkus.eu/event/offenes-training/2026-09-22/
LOCATION:CYRKUS DOMicil\, Conrad-Schiedt-Straße 20\, Görlitz\, Sachsen\, 02826\, Germany
CATEGORIES:Offene Angebote,Offene Angebote Erwachsene
ATTACH;FMTTYPE=image/webp:https://cyrkus.eu/wp-content/uploads/2025/03/cyrkus-dom-kultury-.webp
END:VEVENT
BEGIN:VEVENT
DTSTART;TZID=Europe/Berlin:20260929T200000
DTEND;TZID=Europe/Berlin:20260929T220000
DTSTAMP:20260422T010645
CREATED:20250414T100003Z
LAST-MODIFIED:20250912T103300Z
UID:10003773-1790712000-1790719200@cyrkus.eu
SUMMARY:Offenes Training
DESCRIPTION:
URL:https://cyrkus.eu/event/offenes-training/2026-09-29/
LOCATION:CYRKUS DOMicil\, Conrad-Schiedt-Straße 20\, Görlitz\, Sachsen\, 02826\, Germany
CATEGORIES:Offene Angebote,Offene Angebote Erwachsene
ATTACH;FMTTYPE=image/webp:https://cyrkus.eu/wp-content/uploads/2025/03/cyrkus-dom-kultury-.webp
END:VEVENT
BEGIN:VEVENT
DTSTART;TZID=Europe/Berlin:20261006T200000
DTEND;TZID=Europe/Berlin:20261006T220000
DTSTAMP:20260422T010645
CREATED:20250414T100003Z
LAST-MODIFIED:20250912T103300Z
UID:10003774-1791316800-1791324000@cyrkus.eu
SUMMARY:Offenes Training
DESCRIPTION:
URL:https://cyrkus.eu/event/offenes-training/2026-10-06/
LOCATION:CYRKUS DOMicil\, Conrad-Schiedt-Straße 20\, Görlitz\, Sachsen\, 02826\, Germany
CATEGORIES:Offene Angebote,Offene Angebote Erwachsene
ATTACH;FMTTYPE=image/webp:https://cyrkus.eu/wp-content/uploads/2025/03/cyrkus-dom-kultury-.webp
END:VEVENT
BEGIN:VEVENT
DTSTART;TZID=Europe/Berlin:20261013T200000
DTEND;TZID=Europe/Berlin:20261013T220000
DTSTAMP:20260422T010645
CREATED:20250414T100003Z
LAST-MODIFIED:20250912T103300Z
UID:10003775-1791921600-1791928800@cyrkus.eu
SUMMARY:Offenes Training
DESCRIPTION:
URL:https://cyrkus.eu/event/offenes-training/2026-10-13/
LOCATION:CYRKUS DOMicil\, Conrad-Schiedt-Straße 20\, Görlitz\, Sachsen\, 02826\, Germany
CATEGORIES:Offene Angebote,Offene Angebote Erwachsene
ATTACH;FMTTYPE=image/webp:https://cyrkus.eu/wp-content/uploads/2025/03/cyrkus-dom-kultury-.webp
END:VEVENT
BEGIN:VEVENT
DTSTART;TZID=Europe/Berlin:20261020T200000
DTEND;TZID=Europe/Berlin:20261020T220000
DTSTAMP:20260422T010645
CREATED:20250414T100003Z
LAST-MODIFIED:20250912T103300Z
UID:10003776-1792526400-1792533600@cyrkus.eu
SUMMARY:Offenes Training
DESCRIPTION:
URL:https://cyrkus.eu/event/offenes-training/2026-10-20/
LOCATION:CYRKUS DOMicil\, Conrad-Schiedt-Straße 20\, Görlitz\, Sachsen\, 02826\, Germany
CATEGORIES:Offene Angebote,Offene Angebote Erwachsene
ATTACH;FMTTYPE=image/webp:https://cyrkus.eu/wp-content/uploads/2025/03/cyrkus-dom-kultury-.webp
END:VEVENT
BEGIN:VEVENT
DTSTART;TZID=Europe/Berlin:20261027T200000
DTEND;TZID=Europe/Berlin:20261027T220000
DTSTAMP:20260422T010645
CREATED:20250414T100003Z
LAST-MODIFIED:20250912T103300Z
UID:10003777-1793131200-1793138400@cyrkus.eu
SUMMARY:Offenes Training
DESCRIPTION:
URL:https://cyrkus.eu/event/offenes-training/2026-10-27/
LOCATION:CYRKUS DOMicil\, Conrad-Schiedt-Straße 20\, Görlitz\, Sachsen\, 02826\, Germany
CATEGORIES:Offene Angebote,Offene Angebote Erwachsene
ATTACH;FMTTYPE=image/webp:https://cyrkus.eu/wp-content/uploads/2025/03/cyrkus-dom-kultury-.webp
END:VEVENT
BEGIN:VEVENT
DTSTART;TZID=Europe/Berlin:20261103T200000
DTEND;TZID=Europe/Berlin:20261103T220000
DTSTAMP:20260422T010645
CREATED:20250414T100003Z
LAST-MODIFIED:20250912T103300Z
UID:10003778-1793736000-1793743200@cyrkus.eu
SUMMARY:Offenes Training
DESCRIPTION:
URL:https://cyrkus.eu/event/offenes-training/2026-11-03/
LOCATION:CYRKUS DOMicil\, Conrad-Schiedt-Straße 20\, Görlitz\, Sachsen\, 02826\, Germany
CATEGORIES:Offene Angebote,Offene Angebote Erwachsene
ATTACH;FMTTYPE=image/webp:https://cyrkus.eu/wp-content/uploads/2025/03/cyrkus-dom-kultury-.webp
END:VEVENT
BEGIN:VEVENT
DTSTART;TZID=Europe/Berlin:20261110T200000
DTEND;TZID=Europe/Berlin:20261110T220000
DTSTAMP:20260422T010645
CREATED:20250414T100003Z
LAST-MODIFIED:20250912T103300Z
UID:10003779-1794340800-1794348000@cyrkus.eu
SUMMARY:Offenes Training
DESCRIPTION:
URL:https://cyrkus.eu/event/offenes-training/2026-11-10/
LOCATION:CYRKUS DOMicil\, Conrad-Schiedt-Straße 20\, Görlitz\, Sachsen\, 02826\, Germany
CATEGORIES:Offene Angebote,Offene Angebote Erwachsene
ATTACH;FMTTYPE=image/webp:https://cyrkus.eu/wp-content/uploads/2025/03/cyrkus-dom-kultury-.webp
END:VEVENT
BEGIN:VEVENT
DTSTART;TZID=Europe/Berlin:20261117T200000
DTEND;TZID=Europe/Berlin:20261117T220000
DTSTAMP:20260422T010645
CREATED:20250414T100003Z
LAST-MODIFIED:20250912T103300Z
UID:10003780-1794945600-1794952800@cyrkus.eu
SUMMARY:Offenes Training
DESCRIPTION:
URL:https://cyrkus.eu/event/offenes-training/2026-11-17/
LOCATION:CYRKUS DOMicil\, Conrad-Schiedt-Straße 20\, Görlitz\, Sachsen\, 02826\, Germany
CATEGORIES:Offene Angebote,Offene Angebote Erwachsene
ATTACH;FMTTYPE=image/webp:https://cyrkus.eu/wp-content/uploads/2025/03/cyrkus-dom-kultury-.webp
END:VEVENT
END:VCALENDAR