BEGIN:VCALENDAR
VERSION:2.0
PRODID:-//CYRKUS - ECPv6.15.20//NONSGML v1.0//EN
CALSCALE:GREGORIAN
METHOD:PUBLISH
X-ORIGINAL-URL:https://cyrkus.eu
X-WR-CALDESC:Veranstaltungen für CYRKUS
REFRESH-INTERVAL;VALUE=DURATION:PT1H
X-Robots-Tag:noindex
X-PUBLISHED-TTL:PT1H
BEGIN:VTIMEZONE
TZID:Europe/Berlin
BEGIN:DAYLIGHT
TZOFFSETFROM:+0100
TZOFFSETTO:+0200
TZNAME:CEST
DTSTART:20250330T010000
END:DAYLIGHT
BEGIN:STANDARD
TZOFFSETFROM:+0200
TZOFFSETTO:+0100
TZNAME:CET
DTSTART:20251026T010000
END:STANDARD
BEGIN:DAYLIGHT
TZOFFSETFROM:+0100
TZOFFSETTO:+0200
TZNAME:CEST
DTSTART:20260329T010000
END:DAYLIGHT
BEGIN:STANDARD
TZOFFSETFROM:+0200
TZOFFSETTO:+0100
TZNAME:CET
DTSTART:20261025T010000
END:STANDARD
BEGIN:DAYLIGHT
TZOFFSETFROM:+0100
TZOFFSETTO:+0200
TZNAME:CEST
DTSTART:20270328T010000
END:DAYLIGHT
BEGIN:STANDARD
TZOFFSETFROM:+0200
TZOFFSETTO:+0100
TZNAME:CET
DTSTART:20271031T010000
END:STANDARD
END:VTIMEZONE
BEGIN:VEVENT
DTSTART;TZID=Europe/Berlin:20260421T153000
DTEND;TZID=Europe/Berlin:20260421T170000
DTSTAMP:20260421T115932
CREATED:20250227T202723Z
LAST-MODIFIED:20251027T161405Z
UID:10004272-1776785400-1776790800@cyrkus.eu
SUMMARY:CYRKUS-Spiele II (5 bis 6 Jahre)
DESCRIPTION:In diesem Workshop lädt das Projekt Kinder im Vorschulalter dazu ein\, sich mit Spielerein des Ausdrucks und der eigenen Fantasien auseinanderzusetzen und zirzensische Disziplinen auszubauen\, die im Glanz des Rampenlichts aufleuchten dürfen. \nKosten: 150-200 € (auf Rückfrage\, finden wir Lösungen)
URL:https://cyrkus.eu/event/zabawy-cyrkusowe-ii-wtorki-od-1530-do-1700/2026-04-21/
LOCATION:CYRKUS DOMicil\, Conrad-Schiedt-Straße 20\, Görlitz\, Sachsen\, 02826\, Germany
CATEGORIES:Cyrkus Spiele
ATTACH;FMTTYPE=image/webp:https://cyrkus.eu/wp-content/uploads/2025/02/cyrkus-spiele-1.webp
END:VEVENT
BEGIN:VEVENT
DTSTART;TZID=Europe/Berlin:20260421T173000
DTEND;TZID=Europe/Berlin:20260421T193000
DTSTAMP:20260421T115932
CREATED:20250811T200739Z
LAST-MODIFIED:20251209T091024Z
UID:10004397-1776792600-1776799800@cyrkus.eu
SUMMARY:Pyjama Banana
DESCRIPTION:Unser Projekt bietet die Teilnahme in internationalen Jugendgruppen an\, in der junge Menschen die Möglichkeit haben\, wertvolle Freundschaften zu schließen und ihre Horizonte zu erweitern. Dabei steht nicht nur das Erlernen neuer Zirkusfertigkeiten im Vordergrund\, sondern auch das Vertiefen und Verfeinern bereits erlernter Techniken.
URL:https://cyrkus.eu/event/pyjama-banana-dienstags-1730-bis-1930-2-2/2026-04-21/
LOCATION:CYRKUS DOMicil\, Conrad-Schiedt-Straße 20\, Görlitz\, Sachsen\, 02826\, Germany
CATEGORIES:Pyjama Banana
ATTACH;FMTTYPE=image/webp:https://cyrkus.eu/wp-content/uploads/2025/03/pyjama-banana.webp
END:VEVENT
BEGIN:VEVENT
DTSTART;TZID=Europe/Berlin:20260421T200000
DTEND;TZID=Europe/Berlin:20260421T220000
DTSTAMP:20260421T115932
CREATED:20250414T100003Z
LAST-MODIFIED:20250912T103300Z
UID:10003750-1776801600-1776808800@cyrkus.eu
SUMMARY:Offenes Training
DESCRIPTION:
URL:https://cyrkus.eu/event/offenes-training/2026-04-21/
LOCATION:CYRKUS DOMicil\, Conrad-Schiedt-Straße 20\, Görlitz\, Sachsen\, 02826\, Germany
CATEGORIES:Offene Angebote,Offene Angebote Erwachsene
ATTACH;FMTTYPE=image/webp:https://cyrkus.eu/wp-content/uploads/2025/03/cyrkus-dom-kultury-.webp
END:VEVENT
BEGIN:VEVENT
DTSTART;TZID=Europe/Berlin:20260422T153000
DTEND;TZID=Europe/Berlin:20260422T170000
DTSTAMP:20260421T115932
CREATED:20250301T113805Z
LAST-MODIFIED:20251027T161242Z
UID:10004959-1776871800-1776877200@cyrkus.eu
SUMMARY:Clownerie
DESCRIPTION:Um sich selbst bewusster wahrzunehmen und der eigenen Phantasie einen Raum geben zu können sind Kinder ab 7 Jahren dazu eingeladen\, Teil des Clownerieworkshops zu werden. In diesem Kurs geht es darum\, mit Hilfe der Kunst des Humors und der Selbstironie Grenzen zu durchbrechen. Auch schauspielerische Grundlagen werden hier vermittelt. \nKosten: 150-200 € (auf Rückfrage\, finden wir Lösungen)
URL:https://cyrkus.eu/event/klaunada-czwartki-od-1700-do-1830/2026-04-22/
LOCATION:CYRKUS DOMicil\, Conrad-Schiedt-Straße 20\, Görlitz\, Sachsen\, 02826\, Germany
CATEGORIES:Clownerie
ATTACH;FMTTYPE=image/webp:https://cyrkus.eu/wp-content/uploads/2025/03/clownerie.webp
END:VEVENT
BEGIN:VEVENT
DTSTART;TZID=Europe/Berlin:20260422T153000
DTEND;TZID=Europe/Berlin:20260422T170000
DTSTAMP:20260421T115932
CREATED:20250301T152500Z
LAST-MODIFIED:20251027T161821Z
UID:10004835-1776871800-1776877200@cyrkus.eu
SUMMARY:Jonglage
DESCRIPTION:All diejenigen\, die Lust auf Koordinationstraining\, Geschicklichkeits- und Konzentrationsübungen haben\, sind im Workshop für Jonglage genau richtig. In diesem Kurs dürfen sich Teilnehmende ab 7 Jahren an eine der ältesten Disziplinen des CYRKUS herantasten und sich mit Bällen\, Keulen\, Reifen\, Diabolos und Pois vertraut machen. \nKosten: 150-200 € (auf Rückfrage\, finden wir Lösungen)
URL:https://cyrkus.eu/event/zonglerka-srody-od-1530-do-1700/2026-04-22/
LOCATION:CYRKUS DOMicil\, Conrad-Schiedt-Straße 20\, Görlitz\, Sachsen\, 02826\, Germany
CATEGORIES:Jonglage
ATTACH;FMTTYPE=image/webp:https://cyrkus.eu/wp-content/uploads/2025/03/jonglieren.webp
END:VEVENT
BEGIN:VEVENT
DTSTART;TZID=Europe/Berlin:20260422T173000
DTEND;TZID=Europe/Berlin:20260422T193000
DTSTAMP:20260421T115932
CREATED:20250812T082856Z
LAST-MODIFIED:20251027T164754Z
UID:10004987-1776879000-1776886200@cyrkus.eu
SUMMARY:Varieté Damuna Laguna (12+)
DESCRIPTION:
URL:https://cyrkus.eu/event/variete-damuna-laguna-12/2026-04-22/
LOCATION:CYRKUS DOMicil\, Conrad-Schiedt-Straße 20\, Görlitz\, Sachsen\, 02826\, Germany
CATEGORIES:Damuna Laguna
ATTACH;FMTTYPE=image/webp:https://cyrkus.eu/wp-content/uploads/2025/03/jugendvariete-1.webp
END:VEVENT
BEGIN:VEVENT
DTSTART;TZID=Europe/Berlin:20260423T153000
DTEND;TZID=Europe/Berlin:20260423T170000
DTSTAMP:20260421T115932
CREATED:20260302T145632Z
LAST-MODIFIED:20260302T145633Z
UID:10005042-1776958200-1776963600@cyrkus.eu
SUMMARY:Akrobatik II (9+)
DESCRIPTION:Kinder ab 7 Jahren\, die Lust auf Bewegung und das Spiel mit ästhetischen Figuren und Pyramiden haben\, werden in unserem Akrobatikworkshop fündig. In diesem Kurs werden die Teilnehmenden in ihrer Kraft\, Beweglichkeit und Koordination gefördert und lernen\, sich aufeinander einzulassen und aufeinander zu bauen. \nKosten: 150-200 € (auf Rückfrage\, finden wir Lösungen)
URL:https://cyrkus.eu/event/akrobatik-ii-donnerstag-16-bis-17-30-uhr-2-2/
LOCATION:CYRKUS DOMicil\, Conrad-Schiedt-Straße 20\, Görlitz\, Sachsen\, 02826\, Germany
CATEGORIES:Akrobatik
ATTACH;FMTTYPE=image/webp:https://cyrkus.eu/wp-content/uploads/2025/02/claunada.webp
END:VEVENT
BEGIN:VEVENT
DTSTART;TZID=Europe/Berlin:20260423T161500
DTEND;TZID=Europe/Berlin:20260423T171500
DTSTAMP:20260421T115932
CREATED:20250227T201855Z
LAST-MODIFIED:20251027T163815Z
UID:10005140-1776960900-1776964500@cyrkus.eu
SUMMARY:CYRKUS-Spiele I (4 bis 5 Jahre)
DESCRIPTION:In diesem Workshop lädt das Projekt Kinder im Vorschulalter dazu ein\, sich mit Spielerein des Ausdrucks und der eigenen Fantasien auseinanderzusetzen und zirzensische Disziplinen auszubauen\, die im Glanz des Rampenlichts aufleuchten dürfen. \nKosten: 150-200 € (auf Rückfrage\, finden wir Lösungen)
URL:https://cyrkus.eu/event/zabawy-cyrkusowe-i-w-poniedzialki-od-1600-do-1700/2026-04-23/
LOCATION:CYRKUS DOMicil\, Conrad-Schiedt-Straße 20\, Görlitz\, Sachsen\, 02826\, Germany
CATEGORIES:Cyrkus Spiele
ATTACH;FMTTYPE=image/webp:https://cyrkus.eu/wp-content/uploads/2025/03/cyrkus-spiele.webp
END:VEVENT
BEGIN:VEVENT
DTSTART;TZID=Europe/Berlin:20260423T180000
DTEND;TZID=Europe/Berlin:20260423T200000
DTSTAMP:20260421T115932
CREATED:20250303T211500Z
LAST-MODIFIED:20251027T164808Z
UID:10005210-1776967200-1776974400@cyrkus.eu
SUMMARY:Lama Kolana
DESCRIPTION:Unser Projekt bietet die Teilnahme in internationalen Jugendgruppen an\, in der junge Menschen die Möglichkeit haben\, wertvolle Freundschaften zu schließen und ihre Horizonte zu erweitern. Dabei steht nicht nur das Erlernen neuer Zirkusfertigkeiten im Vordergrund\, sondern auch das Vertiefen und Verfeinern bereits erlernter Techniken.
URL:https://cyrkus.eu/event/lama-kolana-richtig/2026-04-23/
LOCATION:CYRKUS DOMicil\, Conrad-Schiedt-Straße 20\, Görlitz\, Sachsen\, 02826\, Germany
CATEGORIES:Lama Kolana
ATTACH;FMTTYPE=image/webp:https://cyrkus.eu/wp-content/uploads/2025/03/lama-kolana.webp
END:VEVENT
BEGIN:VEVENT
DTSTART;TZID=Europe/Berlin:20260427T153000
DTEND;TZID=Europe/Berlin:20260427T170000
DTSTAMP:20260421T115932
CREATED:20250811T190922Z
LAST-MODIFIED:20251116T132102Z
UID:10004002-1777303800-1777309200@cyrkus.eu
SUMMARY:Einrad
DESCRIPTION:Wer sich gern körperlich austoben möchte und Lust auf Koordinations- und Gleichgewichtstraining hat\, kann in unserem Einradworkshop fündig werden. Für Kinder ab 7 Jahren gibt es in diesem Kurs die Möglichkeit\, sich mit Zeit\, Geduld und kontinuierlicher Bewegung auf dem Einrad zu verwirklichen und den Fahrtwind spüren. \nKosten: 150-200 € (auf Rückfrage\, finden wir Lösungen)
URL:https://cyrkus.eu/event/einrad-14-2/2026-04-27/
LOCATION:CYRKUS DOMicil\, Conrad-Schiedt-Straße 20\, Görlitz\, Sachsen\, 02826\, Germany
CATEGORIES:Einrad
ATTACH;FMTTYPE=image/webp:https://cyrkus.eu/wp-content/uploads/2025/03/einrad.webp
END:VEVENT
BEGIN:VEVENT
DTSTART;TZID=Europe/Berlin:20260427T160000
DTEND;TZID=Europe/Berlin:20260427T173000
DTSTAMP:20260421T115932
CREATED:20250811T192414Z
LAST-MODIFIED:20251209T090142Z
UID:10004037-1777305600-1777311000@cyrkus.eu
SUMMARY:Cyrkus Band
DESCRIPTION:Die Melodien\, die in diesem Workshop entstehen\, werden zum Herzstück unserer Zirkusvorstellungen und erwecken die Shows mit ihrem einzigartigen Klang zum Leben. In diesem Kurs ist jedes Kind ab 10 Jahren willkommen\, das sich für Musik interessiert und seine rhythmischen Fähigkeiten auf kreative Weise einbringen möchte. \nKosten: 150-200 € (auf Rückfrage\, finden wir Lösungen)
URL:https://cyrkus.eu/event/musikband-montags-16-bis-1730-uhr-2/2026-04-27/
LOCATION:CYRKUS DOMicil\, Conrad-Schiedt-Straße 20\, Görlitz\, Sachsen\, 02826\, Germany
CATEGORIES:Cyrkusband
ATTACH;FMTTYPE=image/webp:https://cyrkus.eu/wp-content/uploads/2025/03/band.webp
END:VEVENT
BEGIN:VEVENT
DTSTART;TZID=Europe/Berlin:20260427T173000
DTEND;TZID=Europe/Berlin:20260427T193000
DTSTAMP:20260421T115932
CREATED:20250301T165512Z
LAST-MODIFIED:20251209T090248Z
UID:10002931-1777311000-1777318200@cyrkus.eu
SUMMARY:Jugendvarieté (14+)
DESCRIPTION:Die Juniorjugendgruppe gibt Teilnehmenden ab 12 Jahren die Möglichkeit\, ihre liebsten Zirkusdisziplinen auszubauen und sich dabei mit Gleichaltrigen weiterzuentwickeln. Die Jugendlichen gestalten eigene Auftritte und tragen einen ganz eigenen Teil zum CYRKUS bei. \nIm Jugendvarieté kommen bereits lang erprobte Zirkusartist:innen zwischen 14 und 18 Jahren zusammen\, trainieren gemeinsam und entwickeln sich weiter. Sie können sich zu Co-Workshopleitenden ausbilden und einen Beitrag zur Entwicklung des CYRKUS leisten.
URL:https://cyrkus.eu/event/juniorjugendvariete-14-montags-1730-bis-1930/2026-04-27/
LOCATION:CYRKUS DOMicil\, Conrad-Schiedt-Straße 20\, Görlitz\, Sachsen\, 02826\, Germany
CATEGORIES:Jugendvariete
ATTACH;FMTTYPE=image/webp:https://cyrkus.eu/wp-content/uploads/2025/03/jugendvariete-2.webp
END:VEVENT
BEGIN:VEVENT
DTSTART;TZID=Europe/Berlin:20260427T180000
DTEND;TZID=Europe/Berlin:20260427T193000
DTSTAMP:20260421T115932
CREATED:20250811T194804Z
LAST-MODIFIED:20251027T162315Z
UID:10004202-1777312800-1777318200@cyrkus.eu
SUMMARY:Backstage
DESCRIPTION:Kosten: 150-200 € (auf Rückfrage\, finden wir Lösungen)
URL:https://cyrkus.eu/event/scenografia-w-poniedzialki-od-1800-do-2000-2/2026-04-27/
LOCATION:CYRKUS DOMicil\, Conrad-Schiedt-Straße 20\, Görlitz\, Sachsen\, 02826\, Germany
CATEGORIES:Kulisse
ATTACH;FMTTYPE=image/webp:https://cyrkus.eu/wp-content/uploads/2025/03/kulisse.webp
END:VEVENT
BEGIN:VEVENT
DTSTART;TZID=Europe/Berlin:20260428T153000
DTEND;TZID=Europe/Berlin:20260428T170000
DTSTAMP:20260421T115932
CREATED:20250227T202723Z
LAST-MODIFIED:20251027T161405Z
UID:10004273-1777390200-1777395600@cyrkus.eu
SUMMARY:CYRKUS-Spiele II (5 bis 6 Jahre)
DESCRIPTION:In diesem Workshop lädt das Projekt Kinder im Vorschulalter dazu ein\, sich mit Spielerein des Ausdrucks und der eigenen Fantasien auseinanderzusetzen und zirzensische Disziplinen auszubauen\, die im Glanz des Rampenlichts aufleuchten dürfen. \nKosten: 150-200 € (auf Rückfrage\, finden wir Lösungen)
URL:https://cyrkus.eu/event/zabawy-cyrkusowe-ii-wtorki-od-1530-do-1700/2026-04-28/
LOCATION:CYRKUS DOMicil\, Conrad-Schiedt-Straße 20\, Görlitz\, Sachsen\, 02826\, Germany
CATEGORIES:Cyrkus Spiele
ATTACH;FMTTYPE=image/webp:https://cyrkus.eu/wp-content/uploads/2025/02/cyrkus-spiele-1.webp
END:VEVENT
BEGIN:VEVENT
DTSTART;TZID=Europe/Berlin:20260428T173000
DTEND;TZID=Europe/Berlin:20260428T193000
DTSTAMP:20260421T115932
CREATED:20250811T200739Z
LAST-MODIFIED:20251209T091024Z
UID:10004398-1777397400-1777404600@cyrkus.eu
SUMMARY:Pyjama Banana
DESCRIPTION:Unser Projekt bietet die Teilnahme in internationalen Jugendgruppen an\, in der junge Menschen die Möglichkeit haben\, wertvolle Freundschaften zu schließen und ihre Horizonte zu erweitern. Dabei steht nicht nur das Erlernen neuer Zirkusfertigkeiten im Vordergrund\, sondern auch das Vertiefen und Verfeinern bereits erlernter Techniken.
URL:https://cyrkus.eu/event/pyjama-banana-dienstags-1730-bis-1930-2-2/2026-04-28/
LOCATION:CYRKUS DOMicil\, Conrad-Schiedt-Straße 20\, Görlitz\, Sachsen\, 02826\, Germany
CATEGORIES:Pyjama Banana
ATTACH;FMTTYPE=image/webp:https://cyrkus.eu/wp-content/uploads/2025/03/pyjama-banana.webp
END:VEVENT
BEGIN:VEVENT
DTSTART;TZID=Europe/Berlin:20260428T200000
DTEND;TZID=Europe/Berlin:20260428T220000
DTSTAMP:20260421T115932
CREATED:20250414T100003Z
LAST-MODIFIED:20250912T103300Z
UID:10003751-1777406400-1777413600@cyrkus.eu
SUMMARY:Offenes Training
DESCRIPTION:
URL:https://cyrkus.eu/event/offenes-training/2026-04-28/
LOCATION:CYRKUS DOMicil\, Conrad-Schiedt-Straße 20\, Görlitz\, Sachsen\, 02826\, Germany
CATEGORIES:Offene Angebote,Offene Angebote Erwachsene
ATTACH;FMTTYPE=image/webp:https://cyrkus.eu/wp-content/uploads/2025/03/cyrkus-dom-kultury-.webp
END:VEVENT
BEGIN:VEVENT
DTSTART;TZID=Europe/Berlin:20260429T153000
DTEND;TZID=Europe/Berlin:20260429T170000
DTSTAMP:20260421T115932
CREATED:20250301T113805Z
LAST-MODIFIED:20251027T161242Z
UID:10004960-1777476600-1777482000@cyrkus.eu
SUMMARY:Clownerie
DESCRIPTION:Um sich selbst bewusster wahrzunehmen und der eigenen Phantasie einen Raum geben zu können sind Kinder ab 7 Jahren dazu eingeladen\, Teil des Clownerieworkshops zu werden. In diesem Kurs geht es darum\, mit Hilfe der Kunst des Humors und der Selbstironie Grenzen zu durchbrechen. Auch schauspielerische Grundlagen werden hier vermittelt. \nKosten: 150-200 € (auf Rückfrage\, finden wir Lösungen)
URL:https://cyrkus.eu/event/klaunada-czwartki-od-1700-do-1830/2026-04-29/
LOCATION:CYRKUS DOMicil\, Conrad-Schiedt-Straße 20\, Görlitz\, Sachsen\, 02826\, Germany
CATEGORIES:Clownerie
ATTACH;FMTTYPE=image/webp:https://cyrkus.eu/wp-content/uploads/2025/03/clownerie.webp
END:VEVENT
BEGIN:VEVENT
DTSTART;TZID=Europe/Berlin:20260429T153000
DTEND;TZID=Europe/Berlin:20260429T170000
DTSTAMP:20260421T115932
CREATED:20250301T152500Z
LAST-MODIFIED:20251027T161821Z
UID:10004836-1777476600-1777482000@cyrkus.eu
SUMMARY:Jonglage
DESCRIPTION:All diejenigen\, die Lust auf Koordinationstraining\, Geschicklichkeits- und Konzentrationsübungen haben\, sind im Workshop für Jonglage genau richtig. In diesem Kurs dürfen sich Teilnehmende ab 7 Jahren an eine der ältesten Disziplinen des CYRKUS herantasten und sich mit Bällen\, Keulen\, Reifen\, Diabolos und Pois vertraut machen. \nKosten: 150-200 € (auf Rückfrage\, finden wir Lösungen)
URL:https://cyrkus.eu/event/zonglerka-srody-od-1530-do-1700/2026-04-29/
LOCATION:CYRKUS DOMicil\, Conrad-Schiedt-Straße 20\, Görlitz\, Sachsen\, 02826\, Germany
CATEGORIES:Jonglage
ATTACH;FMTTYPE=image/webp:https://cyrkus.eu/wp-content/uploads/2025/03/jonglieren.webp
END:VEVENT
BEGIN:VEVENT
DTSTART;TZID=Europe/Berlin:20260429T173000
DTEND;TZID=Europe/Berlin:20260429T193000
DTSTAMP:20260421T115932
CREATED:20250812T082856Z
LAST-MODIFIED:20251027T164754Z
UID:10004988-1777483800-1777491000@cyrkus.eu
SUMMARY:Varieté Damuna Laguna (12+)
DESCRIPTION:
URL:https://cyrkus.eu/event/variete-damuna-laguna-12/2026-04-29/
LOCATION:CYRKUS DOMicil\, Conrad-Schiedt-Straße 20\, Görlitz\, Sachsen\, 02826\, Germany
CATEGORIES:Damuna Laguna
ATTACH;FMTTYPE=image/webp:https://cyrkus.eu/wp-content/uploads/2025/03/jugendvariete-1.webp
END:VEVENT
BEGIN:VEVENT
DTSTART;TZID=Europe/Berlin:20260430T161500
DTEND;TZID=Europe/Berlin:20260430T171500
DTSTAMP:20260421T115932
CREATED:20250227T201855Z
LAST-MODIFIED:20251027T163815Z
UID:10005141-1777565700-1777569300@cyrkus.eu
SUMMARY:CYRKUS-Spiele I (4 bis 5 Jahre)
DESCRIPTION:In diesem Workshop lädt das Projekt Kinder im Vorschulalter dazu ein\, sich mit Spielerein des Ausdrucks und der eigenen Fantasien auseinanderzusetzen und zirzensische Disziplinen auszubauen\, die im Glanz des Rampenlichts aufleuchten dürfen. \nKosten: 150-200 € (auf Rückfrage\, finden wir Lösungen)
URL:https://cyrkus.eu/event/zabawy-cyrkusowe-i-w-poniedzialki-od-1600-do-1700/2026-04-30/
LOCATION:CYRKUS DOMicil\, Conrad-Schiedt-Straße 20\, Görlitz\, Sachsen\, 02826\, Germany
CATEGORIES:Cyrkus Spiele
ATTACH;FMTTYPE=image/webp:https://cyrkus.eu/wp-content/uploads/2025/03/cyrkus-spiele.webp
END:VEVENT
BEGIN:VEVENT
DTSTART;TZID=Europe/Berlin:20260430T180000
DTEND;TZID=Europe/Berlin:20260430T200000
DTSTAMP:20260421T115932
CREATED:20250303T211500Z
LAST-MODIFIED:20251027T164808Z
UID:10005211-1777572000-1777579200@cyrkus.eu
SUMMARY:Lama Kolana
DESCRIPTION:Unser Projekt bietet die Teilnahme in internationalen Jugendgruppen an\, in der junge Menschen die Möglichkeit haben\, wertvolle Freundschaften zu schließen und ihre Horizonte zu erweitern. Dabei steht nicht nur das Erlernen neuer Zirkusfertigkeiten im Vordergrund\, sondern auch das Vertiefen und Verfeinern bereits erlernter Techniken.
URL:https://cyrkus.eu/event/lama-kolana-richtig/2026-04-30/
LOCATION:CYRKUS DOMicil\, Conrad-Schiedt-Straße 20\, Görlitz\, Sachsen\, 02826\, Germany
CATEGORIES:Lama Kolana
ATTACH;FMTTYPE=image/webp:https://cyrkus.eu/wp-content/uploads/2025/03/lama-kolana.webp
END:VEVENT
BEGIN:VEVENT
DTSTART;TZID=Europe/Berlin:20260504T153000
DTEND;TZID=Europe/Berlin:20260504T170000
DTSTAMP:20260421T115932
CREATED:20250811T190922Z
LAST-MODIFIED:20251116T132102Z
UID:10004003-1777908600-1777914000@cyrkus.eu
SUMMARY:Einrad
DESCRIPTION:Wer sich gern körperlich austoben möchte und Lust auf Koordinations- und Gleichgewichtstraining hat\, kann in unserem Einradworkshop fündig werden. Für Kinder ab 7 Jahren gibt es in diesem Kurs die Möglichkeit\, sich mit Zeit\, Geduld und kontinuierlicher Bewegung auf dem Einrad zu verwirklichen und den Fahrtwind spüren. \nKosten: 150-200 € (auf Rückfrage\, finden wir Lösungen)
URL:https://cyrkus.eu/event/einrad-14-2/2026-05-04/
LOCATION:CYRKUS DOMicil\, Conrad-Schiedt-Straße 20\, Görlitz\, Sachsen\, 02826\, Germany
CATEGORIES:Einrad
ATTACH;FMTTYPE=image/webp:https://cyrkus.eu/wp-content/uploads/2025/03/einrad.webp
END:VEVENT
BEGIN:VEVENT
DTSTART;TZID=Europe/Berlin:20260504T160000
DTEND;TZID=Europe/Berlin:20260504T173000
DTSTAMP:20260421T115932
CREATED:20250811T192414Z
LAST-MODIFIED:20251209T090142Z
UID:10004038-1777910400-1777915800@cyrkus.eu
SUMMARY:Cyrkus Band
DESCRIPTION:Die Melodien\, die in diesem Workshop entstehen\, werden zum Herzstück unserer Zirkusvorstellungen und erwecken die Shows mit ihrem einzigartigen Klang zum Leben. In diesem Kurs ist jedes Kind ab 10 Jahren willkommen\, das sich für Musik interessiert und seine rhythmischen Fähigkeiten auf kreative Weise einbringen möchte. \nKosten: 150-200 € (auf Rückfrage\, finden wir Lösungen)
URL:https://cyrkus.eu/event/musikband-montags-16-bis-1730-uhr-2/2026-05-04/
LOCATION:CYRKUS DOMicil\, Conrad-Schiedt-Straße 20\, Görlitz\, Sachsen\, 02826\, Germany
CATEGORIES:Cyrkusband
ATTACH;FMTTYPE=image/webp:https://cyrkus.eu/wp-content/uploads/2025/03/band.webp
END:VEVENT
BEGIN:VEVENT
DTSTART;TZID=Europe/Berlin:20260504T173000
DTEND;TZID=Europe/Berlin:20260504T193000
DTSTAMP:20260421T115932
CREATED:20250301T165512Z
LAST-MODIFIED:20251209T090248Z
UID:10002932-1777915800-1777923000@cyrkus.eu
SUMMARY:Jugendvarieté (14+)
DESCRIPTION:Die Juniorjugendgruppe gibt Teilnehmenden ab 12 Jahren die Möglichkeit\, ihre liebsten Zirkusdisziplinen auszubauen und sich dabei mit Gleichaltrigen weiterzuentwickeln. Die Jugendlichen gestalten eigene Auftritte und tragen einen ganz eigenen Teil zum CYRKUS bei. \nIm Jugendvarieté kommen bereits lang erprobte Zirkusartist:innen zwischen 14 und 18 Jahren zusammen\, trainieren gemeinsam und entwickeln sich weiter. Sie können sich zu Co-Workshopleitenden ausbilden und einen Beitrag zur Entwicklung des CYRKUS leisten.
URL:https://cyrkus.eu/event/juniorjugendvariete-14-montags-1730-bis-1930/2026-05-04/
LOCATION:CYRKUS DOMicil\, Conrad-Schiedt-Straße 20\, Görlitz\, Sachsen\, 02826\, Germany
CATEGORIES:Jugendvariete
ATTACH;FMTTYPE=image/webp:https://cyrkus.eu/wp-content/uploads/2025/03/jugendvariete-2.webp
END:VEVENT
BEGIN:VEVENT
DTSTART;TZID=Europe/Berlin:20260504T180000
DTEND;TZID=Europe/Berlin:20260504T193000
DTSTAMP:20260421T115932
CREATED:20250811T194804Z
LAST-MODIFIED:20251027T162315Z
UID:10004203-1777917600-1777923000@cyrkus.eu
SUMMARY:Backstage
DESCRIPTION:Kosten: 150-200 € (auf Rückfrage\, finden wir Lösungen)
URL:https://cyrkus.eu/event/scenografia-w-poniedzialki-od-1800-do-2000-2/2026-05-04/
LOCATION:CYRKUS DOMicil\, Conrad-Schiedt-Straße 20\, Görlitz\, Sachsen\, 02826\, Germany
CATEGORIES:Kulisse
ATTACH;FMTTYPE=image/webp:https://cyrkus.eu/wp-content/uploads/2025/03/kulisse.webp
END:VEVENT
BEGIN:VEVENT
DTSTART;TZID=Europe/Berlin:20260505T153000
DTEND;TZID=Europe/Berlin:20260505T170000
DTSTAMP:20260421T115932
CREATED:20250227T202723Z
LAST-MODIFIED:20251027T161405Z
UID:10004274-1777995000-1778000400@cyrkus.eu
SUMMARY:CYRKUS-Spiele II (5 bis 6 Jahre)
DESCRIPTION:In diesem Workshop lädt das Projekt Kinder im Vorschulalter dazu ein\, sich mit Spielerein des Ausdrucks und der eigenen Fantasien auseinanderzusetzen und zirzensische Disziplinen auszubauen\, die im Glanz des Rampenlichts aufleuchten dürfen. \nKosten: 150-200 € (auf Rückfrage\, finden wir Lösungen)
URL:https://cyrkus.eu/event/zabawy-cyrkusowe-ii-wtorki-od-1530-do-1700/2026-05-05/
LOCATION:CYRKUS DOMicil\, Conrad-Schiedt-Straße 20\, Görlitz\, Sachsen\, 02826\, Germany
CATEGORIES:Cyrkus Spiele
ATTACH;FMTTYPE=image/webp:https://cyrkus.eu/wp-content/uploads/2025/02/cyrkus-spiele-1.webp
END:VEVENT
BEGIN:VEVENT
DTSTART;TZID=Europe/Berlin:20260505T173000
DTEND;TZID=Europe/Berlin:20260505T193000
DTSTAMP:20260421T115932
CREATED:20250811T200739Z
LAST-MODIFIED:20251209T091024Z
UID:10004399-1778002200-1778009400@cyrkus.eu
SUMMARY:Pyjama Banana
DESCRIPTION:Unser Projekt bietet die Teilnahme in internationalen Jugendgruppen an\, in der junge Menschen die Möglichkeit haben\, wertvolle Freundschaften zu schließen und ihre Horizonte zu erweitern. Dabei steht nicht nur das Erlernen neuer Zirkusfertigkeiten im Vordergrund\, sondern auch das Vertiefen und Verfeinern bereits erlernter Techniken.
URL:https://cyrkus.eu/event/pyjama-banana-dienstags-1730-bis-1930-2-2/2026-05-05/
LOCATION:CYRKUS DOMicil\, Conrad-Schiedt-Straße 20\, Görlitz\, Sachsen\, 02826\, Germany
CATEGORIES:Pyjama Banana
ATTACH;FMTTYPE=image/webp:https://cyrkus.eu/wp-content/uploads/2025/03/pyjama-banana.webp
END:VEVENT
BEGIN:VEVENT
DTSTART;TZID=Europe/Berlin:20260505T200000
DTEND;TZID=Europe/Berlin:20260505T220000
DTSTAMP:20260421T115932
CREATED:20250414T100003Z
LAST-MODIFIED:20250912T103300Z
UID:10003752-1778011200-1778018400@cyrkus.eu
SUMMARY:Offenes Training
DESCRIPTION:
URL:https://cyrkus.eu/event/offenes-training/2026-05-05/
LOCATION:CYRKUS DOMicil\, Conrad-Schiedt-Straße 20\, Görlitz\, Sachsen\, 02826\, Germany
CATEGORIES:Offene Angebote,Offene Angebote Erwachsene
ATTACH;FMTTYPE=image/webp:https://cyrkus.eu/wp-content/uploads/2025/03/cyrkus-dom-kultury-.webp
END:VEVENT
BEGIN:VEVENT
DTSTART;TZID=Europe/Berlin:20260506T153000
DTEND;TZID=Europe/Berlin:20260506T170000
DTSTAMP:20260421T115932
CREATED:20250301T113805Z
LAST-MODIFIED:20251027T161242Z
UID:10004961-1778081400-1778086800@cyrkus.eu
SUMMARY:Clownerie
DESCRIPTION:Um sich selbst bewusster wahrzunehmen und der eigenen Phantasie einen Raum geben zu können sind Kinder ab 7 Jahren dazu eingeladen\, Teil des Clownerieworkshops zu werden. In diesem Kurs geht es darum\, mit Hilfe der Kunst des Humors und der Selbstironie Grenzen zu durchbrechen. Auch schauspielerische Grundlagen werden hier vermittelt. \nKosten: 150-200 € (auf Rückfrage\, finden wir Lösungen)
URL:https://cyrkus.eu/event/klaunada-czwartki-od-1700-do-1830/2026-05-06/
LOCATION:CYRKUS DOMicil\, Conrad-Schiedt-Straße 20\, Görlitz\, Sachsen\, 02826\, Germany
CATEGORIES:Clownerie
ATTACH;FMTTYPE=image/webp:https://cyrkus.eu/wp-content/uploads/2025/03/clownerie.webp
END:VEVENT
BEGIN:VEVENT
DTSTART;TZID=Europe/Berlin:20260506T153000
DTEND;TZID=Europe/Berlin:20260506T170000
DTSTAMP:20260421T115932
CREATED:20250301T152500Z
LAST-MODIFIED:20251027T161821Z
UID:10004837-1778081400-1778086800@cyrkus.eu
SUMMARY:Jonglage
DESCRIPTION:All diejenigen\, die Lust auf Koordinationstraining\, Geschicklichkeits- und Konzentrationsübungen haben\, sind im Workshop für Jonglage genau richtig. In diesem Kurs dürfen sich Teilnehmende ab 7 Jahren an eine der ältesten Disziplinen des CYRKUS herantasten und sich mit Bällen\, Keulen\, Reifen\, Diabolos und Pois vertraut machen. \nKosten: 150-200 € (auf Rückfrage\, finden wir Lösungen)
URL:https://cyrkus.eu/event/zonglerka-srody-od-1530-do-1700/2026-05-06/
LOCATION:CYRKUS DOMicil\, Conrad-Schiedt-Straße 20\, Görlitz\, Sachsen\, 02826\, Germany
CATEGORIES:Jonglage
ATTACH;FMTTYPE=image/webp:https://cyrkus.eu/wp-content/uploads/2025/03/jonglieren.webp
END:VEVENT
END:VCALENDAR