BEGIN:VCALENDAR
VERSION:2.0
PRODID:-//CYRKUS - ECPv6.15.20//NONSGML v1.0//EN
CALSCALE:GREGORIAN
METHOD:PUBLISH
X-ORIGINAL-URL:https://cyrkus.eu
X-WR-CALDESC:Veranstaltungen für CYRKUS
REFRESH-INTERVAL;VALUE=DURATION:PT1H
X-Robots-Tag:noindex
X-PUBLISHED-TTL:PT1H
BEGIN:VTIMEZONE
TZID:Europe/Berlin
BEGIN:DAYLIGHT
TZOFFSETFROM:+0100
TZOFFSETTO:+0200
TZNAME:CEST
DTSTART:20240331T010000
END:DAYLIGHT
BEGIN:STANDARD
TZOFFSETFROM:+0200
TZOFFSETTO:+0100
TZNAME:CET
DTSTART:20241027T010000
END:STANDARD
BEGIN:DAYLIGHT
TZOFFSETFROM:+0100
TZOFFSETTO:+0200
TZNAME:CEST
DTSTART:20250330T010000
END:DAYLIGHT
BEGIN:STANDARD
TZOFFSETFROM:+0200
TZOFFSETTO:+0100
TZNAME:CET
DTSTART:20251026T010000
END:STANDARD
BEGIN:DAYLIGHT
TZOFFSETFROM:+0100
TZOFFSETTO:+0200
TZNAME:CEST
DTSTART:20260329T010000
END:DAYLIGHT
BEGIN:STANDARD
TZOFFSETFROM:+0200
TZOFFSETTO:+0100
TZNAME:CET
DTSTART:20261025T010000
END:STANDARD
END:VTIMEZONE
BEGIN:VEVENT
DTSTART;TZID=Europe/Berlin:20251110T160000
DTEND;TZID=Europe/Berlin:20251110T173000
DTSTAMP:20260421T163510
CREATED:20250811T192414Z
LAST-MODIFIED:20251209T090142Z
UID:10004013-1762790400-1762795800@cyrkus.eu
SUMMARY:Cyrkus Band
DESCRIPTION:Die Melodien\, die in diesem Workshop entstehen\, werden zum Herzstück unserer Zirkusvorstellungen und erwecken die Shows mit ihrem einzigartigen Klang zum Leben. In diesem Kurs ist jedes Kind ab 10 Jahren willkommen\, das sich für Musik interessiert und seine rhythmischen Fähigkeiten auf kreative Weise einbringen möchte. \nKosten: 150-200 € (auf Rückfrage\, finden wir Lösungen)
URL:https://cyrkus.eu/event/musikband-montags-16-bis-1730-uhr-2/2025-11-10/
LOCATION:CYRKUS DOMicil\, Conrad-Schiedt-Straße 20\, Görlitz\, Sachsen\, 02826\, Germany
CATEGORIES:Cyrkusband
ATTACH;FMTTYPE=image/webp:https://cyrkus.eu/wp-content/uploads/2025/03/band.webp
END:VEVENT
BEGIN:VEVENT
DTSTART;TZID=Europe/Berlin:20251110T153000
DTEND;TZID=Europe/Berlin:20251110T170000
DTSTAMP:20260421T163510
CREATED:20250811T190922Z
LAST-MODIFIED:20251116T132102Z
UID:10003978-1762788600-1762794000@cyrkus.eu
SUMMARY:Einrad
DESCRIPTION:Wer sich gern körperlich austoben möchte und Lust auf Koordinations- und Gleichgewichtstraining hat\, kann in unserem Einradworkshop fündig werden. Für Kinder ab 7 Jahren gibt es in diesem Kurs die Möglichkeit\, sich mit Zeit\, Geduld und kontinuierlicher Bewegung auf dem Einrad zu verwirklichen und den Fahrtwind spüren. \nKosten: 150-200 € (auf Rückfrage\, finden wir Lösungen)
URL:https://cyrkus.eu/event/einrad-14-2/2025-11-10/
LOCATION:CYRKUS DOMicil\, Conrad-Schiedt-Straße 20\, Görlitz\, Sachsen\, 02826\, Germany
CATEGORIES:Einrad
ATTACH;FMTTYPE=image/webp:https://cyrkus.eu/wp-content/uploads/2025/03/einrad.webp
END:VEVENT
BEGIN:VEVENT
DTSTART;TZID=Europe/Berlin:20251106T180000
DTEND;TZID=Europe/Berlin:20251106T200000
DTSTAMP:20260421T163510
CREATED:20250303T211500Z
LAST-MODIFIED:20251027T164808Z
UID:10005186-1762452000-1762459200@cyrkus.eu
SUMMARY:Lama Kolana
DESCRIPTION:Unser Projekt bietet die Teilnahme in internationalen Jugendgruppen an\, in der junge Menschen die Möglichkeit haben\, wertvolle Freundschaften zu schließen und ihre Horizonte zu erweitern. Dabei steht nicht nur das Erlernen neuer Zirkusfertigkeiten im Vordergrund\, sondern auch das Vertiefen und Verfeinern bereits erlernter Techniken.
URL:https://cyrkus.eu/event/lama-kolana-richtig/2025-11-06/
LOCATION:CYRKUS DOMicil\, Conrad-Schiedt-Straße 20\, Görlitz\, Sachsen\, 02826\, Germany
CATEGORIES:Lama Kolana
ATTACH;FMTTYPE=image/webp:https://cyrkus.eu/wp-content/uploads/2025/03/lama-kolana.webp
END:VEVENT
BEGIN:VEVENT
DTSTART;TZID=Europe/Berlin:20251106T161500
DTEND;TZID=Europe/Berlin:20251106T171500
DTSTAMP:20260421T163510
CREATED:20250227T201855Z
LAST-MODIFIED:20251027T163815Z
UID:10005116-1762445700-1762449300@cyrkus.eu
SUMMARY:CYRKUS-Spiele I (4 bis 5 Jahre)
DESCRIPTION:In diesem Workshop lädt das Projekt Kinder im Vorschulalter dazu ein\, sich mit Spielerein des Ausdrucks und der eigenen Fantasien auseinanderzusetzen und zirzensische Disziplinen auszubauen\, die im Glanz des Rampenlichts aufleuchten dürfen. \nKosten: 150-200 € (auf Rückfrage\, finden wir Lösungen)
URL:https://cyrkus.eu/event/zabawy-cyrkusowe-i-w-poniedzialki-od-1600-do-1700/2025-11-06/
LOCATION:CYRKUS DOMicil\, Conrad-Schiedt-Straße 20\, Görlitz\, Sachsen\, 02826\, Germany
CATEGORIES:Cyrkus Spiele
ATTACH;FMTTYPE=image/webp:https://cyrkus.eu/wp-content/uploads/2025/03/cyrkus-spiele.webp
END:VEVENT
BEGIN:VEVENT
DTSTART;TZID=Europe/Berlin:20251105T173000
DTEND;TZID=Europe/Berlin:20251105T193000
DTSTAMP:20260421T163510
CREATED:20250812T082856Z
LAST-MODIFIED:20251027T164754Z
UID:10004968-1762363800-1762371000@cyrkus.eu
SUMMARY:Varieté Damuna Laguna (12+)
DESCRIPTION:
URL:https://cyrkus.eu/event/variete-damuna-laguna-12/2025-11-05/
LOCATION:CYRKUS DOMicil\, Conrad-Schiedt-Straße 20\, Görlitz\, Sachsen\, 02826\, Germany
CATEGORIES:Damuna Laguna
ATTACH;FMTTYPE=image/webp:https://cyrkus.eu/wp-content/uploads/2025/03/jugendvariete-1.webp
END:VEVENT
BEGIN:VEVENT
DTSTART;TZID=Europe/Berlin:20251105T153000
DTEND;TZID=Europe/Berlin:20251105T170000
DTSTAMP:20260421T163510
CREATED:20250301T152500Z
LAST-MODIFIED:20251027T161821Z
UID:10004811-1762356600-1762362000@cyrkus.eu
SUMMARY:Jonglage
DESCRIPTION:All diejenigen\, die Lust auf Koordinationstraining\, Geschicklichkeits- und Konzentrationsübungen haben\, sind im Workshop für Jonglage genau richtig. In diesem Kurs dürfen sich Teilnehmende ab 7 Jahren an eine der ältesten Disziplinen des CYRKUS herantasten und sich mit Bällen\, Keulen\, Reifen\, Diabolos und Pois vertraut machen. \nKosten: 150-200 € (auf Rückfrage\, finden wir Lösungen)
URL:https://cyrkus.eu/event/zonglerka-srody-od-1530-do-1700/2025-11-05/
LOCATION:CYRKUS DOMicil\, Conrad-Schiedt-Straße 20\, Görlitz\, Sachsen\, 02826\, Germany
CATEGORIES:Jonglage
ATTACH;FMTTYPE=image/webp:https://cyrkus.eu/wp-content/uploads/2025/03/jonglieren.webp
END:VEVENT
BEGIN:VEVENT
DTSTART;TZID=Europe/Berlin:20251105T153000
DTEND;TZID=Europe/Berlin:20251105T170000
DTSTAMP:20260421T163510
CREATED:20250301T113805Z
LAST-MODIFIED:20251027T161242Z
UID:10004940-1762356600-1762362000@cyrkus.eu
SUMMARY:Clownerie
DESCRIPTION:Um sich selbst bewusster wahrzunehmen und der eigenen Phantasie einen Raum geben zu können sind Kinder ab 7 Jahren dazu eingeladen\, Teil des Clownerieworkshops zu werden. In diesem Kurs geht es darum\, mit Hilfe der Kunst des Humors und der Selbstironie Grenzen zu durchbrechen. Auch schauspielerische Grundlagen werden hier vermittelt. \nKosten: 150-200 € (auf Rückfrage\, finden wir Lösungen)
URL:https://cyrkus.eu/event/klaunada-czwartki-od-1700-do-1830/2025-11-05/
LOCATION:CYRKUS DOMicil\, Conrad-Schiedt-Straße 20\, Görlitz\, Sachsen\, 02826\, Germany
CATEGORIES:Clownerie
ATTACH;FMTTYPE=image/webp:https://cyrkus.eu/wp-content/uploads/2025/03/clownerie.webp
END:VEVENT
BEGIN:VEVENT
DTSTART;TZID=Europe/Berlin:20251104T200000
DTEND;TZID=Europe/Berlin:20251104T220000
DTSTAMP:20260421T163510
CREATED:20250414T100003Z
LAST-MODIFIED:20250912T103300Z
UID:10003726-1762286400-1762293600@cyrkus.eu
SUMMARY:Offenes Training
DESCRIPTION:
URL:https://cyrkus.eu/event/offenes-training/2025-11-04/
LOCATION:CYRKUS DOMicil\, Conrad-Schiedt-Straße 20\, Görlitz\, Sachsen\, 02826\, Germany
CATEGORIES:Offene Angebote,Offene Angebote Erwachsene
ATTACH;FMTTYPE=image/webp:https://cyrkus.eu/wp-content/uploads/2025/03/cyrkus-dom-kultury-.webp
END:VEVENT
BEGIN:VEVENT
DTSTART;TZID=Europe/Berlin:20251104T173000
DTEND;TZID=Europe/Berlin:20251104T193000
DTSTAMP:20260421T163510
CREATED:20250811T200739Z
LAST-MODIFIED:20251209T091024Z
UID:10004378-1762277400-1762284600@cyrkus.eu
SUMMARY:Pyjama Banana
DESCRIPTION:Unser Projekt bietet die Teilnahme in internationalen Jugendgruppen an\, in der junge Menschen die Möglichkeit haben\, wertvolle Freundschaften zu schließen und ihre Horizonte zu erweitern. Dabei steht nicht nur das Erlernen neuer Zirkusfertigkeiten im Vordergrund\, sondern auch das Vertiefen und Verfeinern bereits erlernter Techniken.
URL:https://cyrkus.eu/event/pyjama-banana-dienstags-1730-bis-1930-2-2/2025-11-04/
LOCATION:CYRKUS DOMicil\, Conrad-Schiedt-Straße 20\, Görlitz\, Sachsen\, 02826\, Germany
CATEGORIES:Pyjama Banana
ATTACH;FMTTYPE=image/webp:https://cyrkus.eu/wp-content/uploads/2025/03/pyjama-banana.webp
END:VEVENT
BEGIN:VEVENT
DTSTART;TZID=Europe/Berlin:20251104T153000
DTEND;TZID=Europe/Berlin:20251104T170000
DTSTAMP:20260421T163510
CREATED:20250227T202723Z
LAST-MODIFIED:20251027T161405Z
UID:10004248-1762270200-1762275600@cyrkus.eu
SUMMARY:CYRKUS-Spiele II (5 bis 6 Jahre)
DESCRIPTION:In diesem Workshop lädt das Projekt Kinder im Vorschulalter dazu ein\, sich mit Spielerein des Ausdrucks und der eigenen Fantasien auseinanderzusetzen und zirzensische Disziplinen auszubauen\, die im Glanz des Rampenlichts aufleuchten dürfen. \nKosten: 150-200 € (auf Rückfrage\, finden wir Lösungen)
URL:https://cyrkus.eu/event/zabawy-cyrkusowe-ii-wtorki-od-1530-do-1700/2025-11-04/
LOCATION:CYRKUS DOMicil\, Conrad-Schiedt-Straße 20\, Görlitz\, Sachsen\, 02826\, Germany
CATEGORIES:Cyrkus Spiele
ATTACH;FMTTYPE=image/webp:https://cyrkus.eu/wp-content/uploads/2025/02/cyrkus-spiele-1.webp
END:VEVENT
BEGIN:VEVENT
DTSTART;TZID=Europe/Berlin:20251103T180000
DTEND;TZID=Europe/Berlin:20251103T193000
DTSTAMP:20260421T163510
CREATED:20250811T194804Z
LAST-MODIFIED:20251027T162315Z
UID:10004182-1762192800-1762198200@cyrkus.eu
SUMMARY:Backstage
DESCRIPTION:Kosten: 150-200 € (auf Rückfrage\, finden wir Lösungen)
URL:https://cyrkus.eu/event/scenografia-w-poniedzialki-od-1800-do-2000-2/2025-11-03/
LOCATION:CYRKUS DOMicil\, Conrad-Schiedt-Straße 20\, Görlitz\, Sachsen\, 02826\, Germany
CATEGORIES:Kulisse
ATTACH;FMTTYPE=image/webp:https://cyrkus.eu/wp-content/uploads/2025/03/kulisse.webp
END:VEVENT
BEGIN:VEVENT
DTSTART;TZID=Europe/Berlin:20251103T173000
DTEND;TZID=Europe/Berlin:20251103T193000
DTSTAMP:20260421T163510
CREATED:20250301T165512Z
LAST-MODIFIED:20251209T090248Z
UID:10002906-1762191000-1762198200@cyrkus.eu
SUMMARY:Jugendvarieté (14+)
DESCRIPTION:Die Juniorjugendgruppe gibt Teilnehmenden ab 12 Jahren die Möglichkeit\, ihre liebsten Zirkusdisziplinen auszubauen und sich dabei mit Gleichaltrigen weiterzuentwickeln. Die Jugendlichen gestalten eigene Auftritte und tragen einen ganz eigenen Teil zum CYRKUS bei. \nIm Jugendvarieté kommen bereits lang erprobte Zirkusartist:innen zwischen 14 und 18 Jahren zusammen\, trainieren gemeinsam und entwickeln sich weiter. Sie können sich zu Co-Workshopleitenden ausbilden und einen Beitrag zur Entwicklung des CYRKUS leisten.
URL:https://cyrkus.eu/event/juniorjugendvariete-14-montags-1730-bis-1930/2025-11-03/
LOCATION:CYRKUS DOMicil\, Conrad-Schiedt-Straße 20\, Görlitz\, Sachsen\, 02826\, Germany
CATEGORIES:Jugendvariete
ATTACH;FMTTYPE=image/webp:https://cyrkus.eu/wp-content/uploads/2025/03/jugendvariete-2.webp
END:VEVENT
BEGIN:VEVENT
DTSTART;TZID=Europe/Berlin:20251103T160000
DTEND;TZID=Europe/Berlin:20251103T173000
DTSTAMP:20260421T163510
CREATED:20250811T192414Z
LAST-MODIFIED:20251209T090142Z
UID:10004012-1762185600-1762191000@cyrkus.eu
SUMMARY:Cyrkus Band
DESCRIPTION:Die Melodien\, die in diesem Workshop entstehen\, werden zum Herzstück unserer Zirkusvorstellungen und erwecken die Shows mit ihrem einzigartigen Klang zum Leben. In diesem Kurs ist jedes Kind ab 10 Jahren willkommen\, das sich für Musik interessiert und seine rhythmischen Fähigkeiten auf kreative Weise einbringen möchte. \nKosten: 150-200 € (auf Rückfrage\, finden wir Lösungen)
URL:https://cyrkus.eu/event/musikband-montags-16-bis-1730-uhr-2/2025-11-03/
LOCATION:CYRKUS DOMicil\, Conrad-Schiedt-Straße 20\, Görlitz\, Sachsen\, 02826\, Germany
CATEGORIES:Cyrkusband
ATTACH;FMTTYPE=image/webp:https://cyrkus.eu/wp-content/uploads/2025/03/band.webp
END:VEVENT
BEGIN:VEVENT
DTSTART;TZID=Europe/Berlin:20251103T153000
DTEND;TZID=Europe/Berlin:20251103T170000
DTSTAMP:20260421T163510
CREATED:20250811T190922Z
LAST-MODIFIED:20251116T132102Z
UID:10003977-1762183800-1762189200@cyrkus.eu
SUMMARY:Einrad
DESCRIPTION:Wer sich gern körperlich austoben möchte und Lust auf Koordinations- und Gleichgewichtstraining hat\, kann in unserem Einradworkshop fündig werden. Für Kinder ab 7 Jahren gibt es in diesem Kurs die Möglichkeit\, sich mit Zeit\, Geduld und kontinuierlicher Bewegung auf dem Einrad zu verwirklichen und den Fahrtwind spüren. \nKosten: 150-200 € (auf Rückfrage\, finden wir Lösungen)
URL:https://cyrkus.eu/event/einrad-14-2/2025-11-03/
LOCATION:CYRKUS DOMicil\, Conrad-Schiedt-Straße 20\, Görlitz\, Sachsen\, 02826\, Germany
CATEGORIES:Einrad
ATTACH;FMTTYPE=image/webp:https://cyrkus.eu/wp-content/uploads/2025/03/einrad.webp
END:VEVENT
BEGIN:VEVENT
DTSTART;TZID=Europe/Berlin:20251030T180000
DTEND;TZID=Europe/Berlin:20251030T200000
DTSTAMP:20260421T163510
CREATED:20250303T211500Z
LAST-MODIFIED:20251027T164808Z
UID:10005185-1761847200-1761854400@cyrkus.eu
SUMMARY:Lama Kolana
DESCRIPTION:Unser Projekt bietet die Teilnahme in internationalen Jugendgruppen an\, in der junge Menschen die Möglichkeit haben\, wertvolle Freundschaften zu schließen und ihre Horizonte zu erweitern. Dabei steht nicht nur das Erlernen neuer Zirkusfertigkeiten im Vordergrund\, sondern auch das Vertiefen und Verfeinern bereits erlernter Techniken.
URL:https://cyrkus.eu/event/lama-kolana-richtig/2025-10-30/
LOCATION:CYRKUS DOMicil\, Conrad-Schiedt-Straße 20\, Görlitz\, Sachsen\, 02826\, Germany
CATEGORIES:Lama Kolana
ATTACH;FMTTYPE=image/webp:https://cyrkus.eu/wp-content/uploads/2025/03/lama-kolana.webp
END:VEVENT
BEGIN:VEVENT
DTSTART;TZID=Europe/Berlin:20251030T161500
DTEND;TZID=Europe/Berlin:20251030T171500
DTSTAMP:20260421T163510
CREATED:20250227T201855Z
LAST-MODIFIED:20251027T163815Z
UID:10005115-1761840900-1761844500@cyrkus.eu
SUMMARY:CYRKUS-Spiele I (4 bis 5 Jahre)
DESCRIPTION:In diesem Workshop lädt das Projekt Kinder im Vorschulalter dazu ein\, sich mit Spielerein des Ausdrucks und der eigenen Fantasien auseinanderzusetzen und zirzensische Disziplinen auszubauen\, die im Glanz des Rampenlichts aufleuchten dürfen. \nKosten: 150-200 € (auf Rückfrage\, finden wir Lösungen)
URL:https://cyrkus.eu/event/zabawy-cyrkusowe-i-w-poniedzialki-od-1600-do-1700/2025-10-30/
LOCATION:CYRKUS DOMicil\, Conrad-Schiedt-Straße 20\, Görlitz\, Sachsen\, 02826\, Germany
CATEGORIES:Cyrkus Spiele
ATTACH;FMTTYPE=image/webp:https://cyrkus.eu/wp-content/uploads/2025/03/cyrkus-spiele.webp
END:VEVENT
BEGIN:VEVENT
DTSTART;TZID=Europe/Berlin:20251029T173000
DTEND;TZID=Europe/Berlin:20251029T193000
DTSTAMP:20260421T163510
CREATED:20250812T082856Z
LAST-MODIFIED:20251027T164754Z
UID:10004967-1761759000-1761766200@cyrkus.eu
SUMMARY:Varieté Damuna Laguna (12+)
DESCRIPTION:
URL:https://cyrkus.eu/event/variete-damuna-laguna-12/2025-10-29/
LOCATION:CYRKUS DOMicil\, Conrad-Schiedt-Straße 20\, Görlitz\, Sachsen\, 02826\, Germany
CATEGORIES:Damuna Laguna
ATTACH;FMTTYPE=image/webp:https://cyrkus.eu/wp-content/uploads/2025/03/jugendvariete-1.webp
END:VEVENT
BEGIN:VEVENT
DTSTART;TZID=Europe/Berlin:20251029T153000
DTEND;TZID=Europe/Berlin:20251029T170000
DTSTAMP:20260421T163510
CREATED:20250301T152500Z
LAST-MODIFIED:20251027T161821Z
UID:10004810-1761751800-1761757200@cyrkus.eu
SUMMARY:Jonglage
DESCRIPTION:All diejenigen\, die Lust auf Koordinationstraining\, Geschicklichkeits- und Konzentrationsübungen haben\, sind im Workshop für Jonglage genau richtig. In diesem Kurs dürfen sich Teilnehmende ab 7 Jahren an eine der ältesten Disziplinen des CYRKUS herantasten und sich mit Bällen\, Keulen\, Reifen\, Diabolos und Pois vertraut machen. \nKosten: 150-200 € (auf Rückfrage\, finden wir Lösungen)
URL:https://cyrkus.eu/event/zonglerka-srody-od-1530-do-1700/2025-10-29/
LOCATION:CYRKUS DOMicil\, Conrad-Schiedt-Straße 20\, Görlitz\, Sachsen\, 02826\, Germany
CATEGORIES:Jonglage
ATTACH;FMTTYPE=image/webp:https://cyrkus.eu/wp-content/uploads/2025/03/jonglieren.webp
END:VEVENT
BEGIN:VEVENT
DTSTART;TZID=Europe/Berlin:20251029T153000
DTEND;TZID=Europe/Berlin:20251029T170000
DTSTAMP:20260421T163510
CREATED:20250301T113805Z
LAST-MODIFIED:20251027T161242Z
UID:10004939-1761751800-1761757200@cyrkus.eu
SUMMARY:Clownerie
DESCRIPTION:Um sich selbst bewusster wahrzunehmen und der eigenen Phantasie einen Raum geben zu können sind Kinder ab 7 Jahren dazu eingeladen\, Teil des Clownerieworkshops zu werden. In diesem Kurs geht es darum\, mit Hilfe der Kunst des Humors und der Selbstironie Grenzen zu durchbrechen. Auch schauspielerische Grundlagen werden hier vermittelt. \nKosten: 150-200 € (auf Rückfrage\, finden wir Lösungen)
URL:https://cyrkus.eu/event/klaunada-czwartki-od-1700-do-1830/2025-10-29/
LOCATION:CYRKUS DOMicil\, Conrad-Schiedt-Straße 20\, Görlitz\, Sachsen\, 02826\, Germany
CATEGORIES:Clownerie
ATTACH;FMTTYPE=image/webp:https://cyrkus.eu/wp-content/uploads/2025/03/clownerie.webp
END:VEVENT
BEGIN:VEVENT
DTSTART;TZID=Europe/Berlin:20251028T200000
DTEND;TZID=Europe/Berlin:20251028T220000
DTSTAMP:20260421T163510
CREATED:20250414T100003Z
LAST-MODIFIED:20250912T103300Z
UID:10003725-1761681600-1761688800@cyrkus.eu
SUMMARY:Offenes Training
DESCRIPTION:
URL:https://cyrkus.eu/event/offenes-training/2025-10-28/
LOCATION:CYRKUS DOMicil\, Conrad-Schiedt-Straße 20\, Görlitz\, Sachsen\, 02826\, Germany
CATEGORIES:Offene Angebote,Offene Angebote Erwachsene
ATTACH;FMTTYPE=image/webp:https://cyrkus.eu/wp-content/uploads/2025/03/cyrkus-dom-kultury-.webp
END:VEVENT
BEGIN:VEVENT
DTSTART;TZID=Europe/Berlin:20251028T173000
DTEND;TZID=Europe/Berlin:20251028T193000
DTSTAMP:20260421T163510
CREATED:20250811T200739Z
LAST-MODIFIED:20251209T091024Z
UID:10004377-1761672600-1761679800@cyrkus.eu
SUMMARY:Pyjama Banana
DESCRIPTION:Unser Projekt bietet die Teilnahme in internationalen Jugendgruppen an\, in der junge Menschen die Möglichkeit haben\, wertvolle Freundschaften zu schließen und ihre Horizonte zu erweitern. Dabei steht nicht nur das Erlernen neuer Zirkusfertigkeiten im Vordergrund\, sondern auch das Vertiefen und Verfeinern bereits erlernter Techniken.
URL:https://cyrkus.eu/event/pyjama-banana-dienstags-1730-bis-1930-2-2/2025-10-28/
LOCATION:CYRKUS DOMicil\, Conrad-Schiedt-Straße 20\, Görlitz\, Sachsen\, 02826\, Germany
CATEGORIES:Pyjama Banana
ATTACH;FMTTYPE=image/webp:https://cyrkus.eu/wp-content/uploads/2025/03/pyjama-banana.webp
END:VEVENT
BEGIN:VEVENT
DTSTART;TZID=Europe/Berlin:20251028T153000
DTEND;TZID=Europe/Berlin:20251028T170000
DTSTAMP:20260421T163510
CREATED:20250227T202723Z
LAST-MODIFIED:20251027T161405Z
UID:10004247-1761665400-1761670800@cyrkus.eu
SUMMARY:CYRKUS-Spiele II (5 bis 6 Jahre)
DESCRIPTION:In diesem Workshop lädt das Projekt Kinder im Vorschulalter dazu ein\, sich mit Spielerein des Ausdrucks und der eigenen Fantasien auseinanderzusetzen und zirzensische Disziplinen auszubauen\, die im Glanz des Rampenlichts aufleuchten dürfen. \nKosten: 150-200 € (auf Rückfrage\, finden wir Lösungen)
URL:https://cyrkus.eu/event/zabawy-cyrkusowe-ii-wtorki-od-1530-do-1700/2025-10-28/
LOCATION:CYRKUS DOMicil\, Conrad-Schiedt-Straße 20\, Görlitz\, Sachsen\, 02826\, Germany
CATEGORIES:Cyrkus Spiele
ATTACH;FMTTYPE=image/webp:https://cyrkus.eu/wp-content/uploads/2025/02/cyrkus-spiele-1.webp
END:VEVENT
BEGIN:VEVENT
DTSTART;TZID=Europe/Berlin:20251027T180000
DTEND;TZID=Europe/Berlin:20251027T193000
DTSTAMP:20260421T163510
CREATED:20250811T194804Z
LAST-MODIFIED:20251027T162315Z
UID:10004181-1761588000-1761593400@cyrkus.eu
SUMMARY:Backstage
DESCRIPTION:Kosten: 150-200 € (auf Rückfrage\, finden wir Lösungen)
URL:https://cyrkus.eu/event/scenografia-w-poniedzialki-od-1800-do-2000-2/2025-10-27/
LOCATION:CYRKUS DOMicil\, Conrad-Schiedt-Straße 20\, Görlitz\, Sachsen\, 02826\, Germany
CATEGORIES:Kulisse
ATTACH;FMTTYPE=image/webp:https://cyrkus.eu/wp-content/uploads/2025/03/kulisse.webp
END:VEVENT
BEGIN:VEVENT
DTSTART;TZID=Europe/Berlin:20251027T173000
DTEND;TZID=Europe/Berlin:20251027T193000
DTSTAMP:20260421T163510
CREATED:20250301T165512Z
LAST-MODIFIED:20251209T090248Z
UID:10002905-1761586200-1761593400@cyrkus.eu
SUMMARY:Jugendvarieté (14+)
DESCRIPTION:Die Juniorjugendgruppe gibt Teilnehmenden ab 12 Jahren die Möglichkeit\, ihre liebsten Zirkusdisziplinen auszubauen und sich dabei mit Gleichaltrigen weiterzuentwickeln. Die Jugendlichen gestalten eigene Auftritte und tragen einen ganz eigenen Teil zum CYRKUS bei. \nIm Jugendvarieté kommen bereits lang erprobte Zirkusartist:innen zwischen 14 und 18 Jahren zusammen\, trainieren gemeinsam und entwickeln sich weiter. Sie können sich zu Co-Workshopleitenden ausbilden und einen Beitrag zur Entwicklung des CYRKUS leisten.
URL:https://cyrkus.eu/event/juniorjugendvariete-14-montags-1730-bis-1930/2025-10-27/
LOCATION:CYRKUS DOMicil\, Conrad-Schiedt-Straße 20\, Görlitz\, Sachsen\, 02826\, Germany
CATEGORIES:Jugendvariete
ATTACH;FMTTYPE=image/webp:https://cyrkus.eu/wp-content/uploads/2025/03/jugendvariete-2.webp
END:VEVENT
BEGIN:VEVENT
DTSTART;TZID=Europe/Berlin:20251027T160000
DTEND;TZID=Europe/Berlin:20251027T173000
DTSTAMP:20260421T163510
CREATED:20250811T192414Z
LAST-MODIFIED:20251209T090142Z
UID:10004011-1761580800-1761586200@cyrkus.eu
SUMMARY:Cyrkus Band
DESCRIPTION:Die Melodien\, die in diesem Workshop entstehen\, werden zum Herzstück unserer Zirkusvorstellungen und erwecken die Shows mit ihrem einzigartigen Klang zum Leben. In diesem Kurs ist jedes Kind ab 10 Jahren willkommen\, das sich für Musik interessiert und seine rhythmischen Fähigkeiten auf kreative Weise einbringen möchte. \nKosten: 150-200 € (auf Rückfrage\, finden wir Lösungen)
URL:https://cyrkus.eu/event/musikband-montags-16-bis-1730-uhr-2/2025-10-27/
LOCATION:CYRKUS DOMicil\, Conrad-Schiedt-Straße 20\, Görlitz\, Sachsen\, 02826\, Germany
CATEGORIES:Cyrkusband
ATTACH;FMTTYPE=image/webp:https://cyrkus.eu/wp-content/uploads/2025/03/band.webp
END:VEVENT
BEGIN:VEVENT
DTSTART;TZID=Europe/Berlin:20251027T153000
DTEND;TZID=Europe/Berlin:20251027T170000
DTSTAMP:20260421T163510
CREATED:20250811T190922Z
LAST-MODIFIED:20251116T132102Z
UID:10003976-1761579000-1761584400@cyrkus.eu
SUMMARY:Einrad
DESCRIPTION:Wer sich gern körperlich austoben möchte und Lust auf Koordinations- und Gleichgewichtstraining hat\, kann in unserem Einradworkshop fündig werden. Für Kinder ab 7 Jahren gibt es in diesem Kurs die Möglichkeit\, sich mit Zeit\, Geduld und kontinuierlicher Bewegung auf dem Einrad zu verwirklichen und den Fahrtwind spüren. \nKosten: 150-200 € (auf Rückfrage\, finden wir Lösungen)
URL:https://cyrkus.eu/event/einrad-14-2/2025-10-27/
LOCATION:CYRKUS DOMicil\, Conrad-Schiedt-Straße 20\, Görlitz\, Sachsen\, 02826\, Germany
CATEGORIES:Einrad
ATTACH;FMTTYPE=image/webp:https://cyrkus.eu/wp-content/uploads/2025/03/einrad.webp
END:VEVENT
BEGIN:VEVENT
DTSTART;TZID=Europe/Berlin:20251023T180000
DTEND;TZID=Europe/Berlin:20251023T200000
DTSTAMP:20260421T163510
CREATED:20250303T211500Z
LAST-MODIFIED:20251027T164808Z
UID:10005184-1761242400-1761249600@cyrkus.eu
SUMMARY:Lama Kolana
DESCRIPTION:Unser Projekt bietet die Teilnahme in internationalen Jugendgruppen an\, in der junge Menschen die Möglichkeit haben\, wertvolle Freundschaften zu schließen und ihre Horizonte zu erweitern. Dabei steht nicht nur das Erlernen neuer Zirkusfertigkeiten im Vordergrund\, sondern auch das Vertiefen und Verfeinern bereits erlernter Techniken.
URL:https://cyrkus.eu/event/lama-kolana-richtig/2025-10-23/
LOCATION:CYRKUS DOMicil\, Conrad-Schiedt-Straße 20\, Görlitz\, Sachsen\, 02826\, Germany
CATEGORIES:Lama Kolana
ATTACH;FMTTYPE=image/webp:https://cyrkus.eu/wp-content/uploads/2025/03/lama-kolana.webp
END:VEVENT
BEGIN:VEVENT
DTSTART;TZID=Europe/Berlin:20251023T161500
DTEND;TZID=Europe/Berlin:20251023T171500
DTSTAMP:20260421T163510
CREATED:20250227T201855Z
LAST-MODIFIED:20251027T163815Z
UID:10005114-1761236100-1761239700@cyrkus.eu
SUMMARY:CYRKUS-Spiele I (4 bis 5 Jahre)
DESCRIPTION:In diesem Workshop lädt das Projekt Kinder im Vorschulalter dazu ein\, sich mit Spielerein des Ausdrucks und der eigenen Fantasien auseinanderzusetzen und zirzensische Disziplinen auszubauen\, die im Glanz des Rampenlichts aufleuchten dürfen. \nKosten: 150-200 € (auf Rückfrage\, finden wir Lösungen)
URL:https://cyrkus.eu/event/zabawy-cyrkusowe-i-w-poniedzialki-od-1600-do-1700/2025-10-23/
LOCATION:CYRKUS DOMicil\, Conrad-Schiedt-Straße 20\, Görlitz\, Sachsen\, 02826\, Germany
CATEGORIES:Cyrkus Spiele
ATTACH;FMTTYPE=image/webp:https://cyrkus.eu/wp-content/uploads/2025/03/cyrkus-spiele.webp
END:VEVENT
BEGIN:VEVENT
DTSTART;TZID=Europe/Berlin:20251022T173000
DTEND;TZID=Europe/Berlin:20251022T193000
DTSTAMP:20260421T163510
CREATED:20250812T082856Z
LAST-MODIFIED:20251027T164754Z
UID:10004966-1761154200-1761161400@cyrkus.eu
SUMMARY:Varieté Damuna Laguna (12+)
DESCRIPTION:
URL:https://cyrkus.eu/event/variete-damuna-laguna-12/2025-10-22/
LOCATION:CYRKUS DOMicil\, Conrad-Schiedt-Straße 20\, Görlitz\, Sachsen\, 02826\, Germany
CATEGORIES:Damuna Laguna
ATTACH;FMTTYPE=image/webp:https://cyrkus.eu/wp-content/uploads/2025/03/jugendvariete-1.webp
END:VEVENT
BEGIN:VEVENT
DTSTART;TZID=Europe/Berlin:20251022T153000
DTEND;TZID=Europe/Berlin:20251022T170000
DTSTAMP:20260421T163510
CREATED:20250301T152500Z
LAST-MODIFIED:20251027T161821Z
UID:10004809-1761147000-1761152400@cyrkus.eu
SUMMARY:Jonglage
DESCRIPTION:All diejenigen\, die Lust auf Koordinationstraining\, Geschicklichkeits- und Konzentrationsübungen haben\, sind im Workshop für Jonglage genau richtig. In diesem Kurs dürfen sich Teilnehmende ab 7 Jahren an eine der ältesten Disziplinen des CYRKUS herantasten und sich mit Bällen\, Keulen\, Reifen\, Diabolos und Pois vertraut machen. \nKosten: 150-200 € (auf Rückfrage\, finden wir Lösungen)
URL:https://cyrkus.eu/event/zonglerka-srody-od-1530-do-1700/2025-10-22/
LOCATION:CYRKUS DOMicil\, Conrad-Schiedt-Straße 20\, Görlitz\, Sachsen\, 02826\, Germany
CATEGORIES:Jonglage
ATTACH;FMTTYPE=image/webp:https://cyrkus.eu/wp-content/uploads/2025/03/jonglieren.webp
END:VEVENT
END:VCALENDAR