BEGIN:VCALENDAR
VERSION:2.0
PRODID:-//CYRKUS - ECPv6.15.20//NONSGML v1.0//EN
CALSCALE:GREGORIAN
METHOD:PUBLISH
X-ORIGINAL-URL:https://cyrkus.eu/pl/
X-WR-CALDESC:Wydarzenia dla CYRKUS
REFRESH-INTERVAL;VALUE=DURATION:PT1H
X-Robots-Tag:noindex
X-PUBLISHED-TTL:PT1H
BEGIN:VTIMEZONE
TZID:Europe/Berlin
BEGIN:DAYLIGHT
TZOFFSETFROM:+0100
TZOFFSETTO:+0200
TZNAME:CEST
DTSTART:20250330T010000
END:DAYLIGHT
BEGIN:STANDARD
TZOFFSETFROM:+0200
TZOFFSETTO:+0100
TZNAME:CET
DTSTART:20251026T010000
END:STANDARD
BEGIN:DAYLIGHT
TZOFFSETFROM:+0100
TZOFFSETTO:+0200
TZNAME:CEST
DTSTART:20260329T010000
END:DAYLIGHT
BEGIN:STANDARD
TZOFFSETFROM:+0200
TZOFFSETTO:+0100
TZNAME:CET
DTSTART:20261025T010000
END:STANDARD
BEGIN:DAYLIGHT
TZOFFSETFROM:+0100
TZOFFSETTO:+0200
TZNAME:CEST
DTSTART:20270328T010000
END:DAYLIGHT
BEGIN:STANDARD
TZOFFSETFROM:+0200
TZOFFSETTO:+0100
TZNAME:CET
DTSTART:20271031T010000
END:STANDARD
END:VTIMEZONE
BEGIN:VEVENT
DTSTART;TZID=Europe/Berlin:20260428T173000
DTEND;TZID=Europe/Berlin:20260428T190000
DTSTAMP:20260422T042657
CREATED:20250301T153750Z
LAST-MODIFIED:20251209T091035Z
UID:10004462-1777397400-1777402800@cyrkus.eu
SUMMARY:Akrobatyki Powietrznej II
DESCRIPTION:Zapraszamy do spróbowania swoich sił i wspólnego zdobywania kondycji\, sprężystości i koordynacji na zawrotnych wysokościach podczas akrobatyki na chustach i trapezach. Przy odrobinie odwagi dzieci w wieku od 9 lat mogą wznieść się wysoko\, a dzięki wytrwałości i ćwiczeniom są w stanie szybko nauczyć się wykonywania zachwycających figur akrobatycznych na chustach. \nDrzwi na te warsztaty stoją otworem przed tymi\, którzy wcześniej mieli już do czynienia z akrobatyką na chustach i trapezie. Na tym kursie dzieci w wieku od 10 lat mogą głębiej wejść w aktywność fizyczną na wysokości i rozwijać precyzyjną świadomość zarówno swojego ciała jak i swojej tężyzny fizycznej. \nZe względu na duże zainteresowanie i dzięki warsztatom prowadzonym w ramach projektu CYRKUS w sklepie | im Laden akrobatyka powietrzna i poznawanie tej sztuki może stać się najważniejszym punktem dnia również dla dorosłych. \nKoszt: 600 zl-800 zl. (W przypadku pytań znajdziemy rozwiązanie)
URL:https://cyrkus.eu/pl/event/akrobatyki-powietrznej-i-srody-od-1530-do-1700/2026-04-28/
LOCATION:Rabryka\, Conrad-Schiedt-Str. 23\, Görlitz\, Sachsen\, 02826\, Germany
CATEGORIES:Luftakrobatik
END:VEVENT
BEGIN:VEVENT
DTSTART;TZID=Europe/Berlin:20260428T191500
DTEND;TZID=Europe/Berlin:20260428T204500
DTSTAMP:20260422T042657
CREATED:20250303T165236Z
LAST-MODIFIED:20251209T091048Z
UID:10004598-1777403700-1777409100@cyrkus.eu
SUMMARY:Akrobatyki Powietrznej
DESCRIPTION:Zapraszamy do spróbowania swoich sił i wspólnego zdobywania kondycji\, sprężystości i koordynacji na zawrotnych wysokościach podczas akrobatyki na chustach i trapezach. Przy odrobinie odwagi dzieci w wieku od 9 lat mogą wznieść się wysoko\, a dzięki wytrwałości i ćwiczeniom są w stanie szybko nauczyć się wykonywania zachwycających figur akrobatycznych na chustach. \nDrzwi na te warsztaty stoją otworem przed tymi\, którzy wcześniej mieli już do czynienia z akrobatyką na chustach i trapezie. Na tym kursie dzieci w wieku od 10 lat mogą głębiej wejść w aktywność fizyczną na wysokości i rozwijać precyzyjną świadomość zarówno swojego ciała jak i swojej tężyzny fizycznej. \nZe względu na duże zainteresowanie i dzięki warsztatom prowadzonym w ramach projektu CYRKUS w sklepie | im Laden akrobatyka powietrzna i poznawanie tej sztuki może stać się najważniejszym punktem dnia również dla dorosłych. \nKoszt: 150-200 €. (W przypadku pytań znajdziemy rozwiązanie)
URL:https://cyrkus.eu/pl/event/akrobatyki-powietrznej/2026-04-28/
LOCATION:Rabryka\, Conrad-Schiedt-Str. 23\, Görlitz\, Sachsen\, 02826\, Germany
CATEGORIES:Luftakrobatik
END:VEVENT
BEGIN:VEVENT
DTSTART;TZID=Europe/Berlin:20260505T173000
DTEND;TZID=Europe/Berlin:20260505T190000
DTSTAMP:20260422T042657
CREATED:20250301T153750Z
LAST-MODIFIED:20251209T091035Z
UID:10004463-1778002200-1778007600@cyrkus.eu
SUMMARY:Akrobatyki Powietrznej II
DESCRIPTION:Zapraszamy do spróbowania swoich sił i wspólnego zdobywania kondycji\, sprężystości i koordynacji na zawrotnych wysokościach podczas akrobatyki na chustach i trapezach. Przy odrobinie odwagi dzieci w wieku od 9 lat mogą wznieść się wysoko\, a dzięki wytrwałości i ćwiczeniom są w stanie szybko nauczyć się wykonywania zachwycających figur akrobatycznych na chustach. \nDrzwi na te warsztaty stoją otworem przed tymi\, którzy wcześniej mieli już do czynienia z akrobatyką na chustach i trapezie. Na tym kursie dzieci w wieku od 10 lat mogą głębiej wejść w aktywność fizyczną na wysokości i rozwijać precyzyjną świadomość zarówno swojego ciała jak i swojej tężyzny fizycznej. \nZe względu na duże zainteresowanie i dzięki warsztatom prowadzonym w ramach projektu CYRKUS w sklepie | im Laden akrobatyka powietrzna i poznawanie tej sztuki może stać się najważniejszym punktem dnia również dla dorosłych. \nKoszt: 600 zl-800 zl. (W przypadku pytań znajdziemy rozwiązanie)
URL:https://cyrkus.eu/pl/event/akrobatyki-powietrznej-i-srody-od-1530-do-1700/2026-05-05/
LOCATION:Rabryka\, Conrad-Schiedt-Str. 23\, Görlitz\, Sachsen\, 02826\, Germany
CATEGORIES:Luftakrobatik
END:VEVENT
BEGIN:VEVENT
DTSTART;TZID=Europe/Berlin:20260505T191500
DTEND;TZID=Europe/Berlin:20260505T204500
DTSTAMP:20260422T042657
CREATED:20250303T165236Z
LAST-MODIFIED:20251209T091048Z
UID:10004599-1778008500-1778013900@cyrkus.eu
SUMMARY:Akrobatyki Powietrznej
DESCRIPTION:Zapraszamy do spróbowania swoich sił i wspólnego zdobywania kondycji\, sprężystości i koordynacji na zawrotnych wysokościach podczas akrobatyki na chustach i trapezach. Przy odrobinie odwagi dzieci w wieku od 9 lat mogą wznieść się wysoko\, a dzięki wytrwałości i ćwiczeniom są w stanie szybko nauczyć się wykonywania zachwycających figur akrobatycznych na chustach. \nDrzwi na te warsztaty stoją otworem przed tymi\, którzy wcześniej mieli już do czynienia z akrobatyką na chustach i trapezie. Na tym kursie dzieci w wieku od 10 lat mogą głębiej wejść w aktywność fizyczną na wysokości i rozwijać precyzyjną świadomość zarówno swojego ciała jak i swojej tężyzny fizycznej. \nZe względu na duże zainteresowanie i dzięki warsztatom prowadzonym w ramach projektu CYRKUS w sklepie | im Laden akrobatyka powietrzna i poznawanie tej sztuki może stać się najważniejszym punktem dnia również dla dorosłych. \nKoszt: 150-200 €. (W przypadku pytań znajdziemy rozwiązanie)
URL:https://cyrkus.eu/pl/event/akrobatyki-powietrznej/2026-05-05/
LOCATION:Rabryka\, Conrad-Schiedt-Str. 23\, Görlitz\, Sachsen\, 02826\, Germany
CATEGORIES:Luftakrobatik
END:VEVENT
BEGIN:VEVENT
DTSTART;TZID=Europe/Berlin:20260512T173000
DTEND;TZID=Europe/Berlin:20260512T190000
DTSTAMP:20260422T042657
CREATED:20250301T153750Z
LAST-MODIFIED:20251209T091035Z
UID:10004464-1778607000-1778612400@cyrkus.eu
SUMMARY:Akrobatyki Powietrznej II
DESCRIPTION:Zapraszamy do spróbowania swoich sił i wspólnego zdobywania kondycji\, sprężystości i koordynacji na zawrotnych wysokościach podczas akrobatyki na chustach i trapezach. Przy odrobinie odwagi dzieci w wieku od 9 lat mogą wznieść się wysoko\, a dzięki wytrwałości i ćwiczeniom są w stanie szybko nauczyć się wykonywania zachwycających figur akrobatycznych na chustach. \nDrzwi na te warsztaty stoją otworem przed tymi\, którzy wcześniej mieli już do czynienia z akrobatyką na chustach i trapezie. Na tym kursie dzieci w wieku od 10 lat mogą głębiej wejść w aktywność fizyczną na wysokości i rozwijać precyzyjną świadomość zarówno swojego ciała jak i swojej tężyzny fizycznej. \nZe względu na duże zainteresowanie i dzięki warsztatom prowadzonym w ramach projektu CYRKUS w sklepie | im Laden akrobatyka powietrzna i poznawanie tej sztuki może stać się najważniejszym punktem dnia również dla dorosłych. \nKoszt: 600 zl-800 zl. (W przypadku pytań znajdziemy rozwiązanie)
URL:https://cyrkus.eu/pl/event/akrobatyki-powietrznej-i-srody-od-1530-do-1700/2026-05-12/
LOCATION:Rabryka\, Conrad-Schiedt-Str. 23\, Görlitz\, Sachsen\, 02826\, Germany
CATEGORIES:Luftakrobatik
END:VEVENT
BEGIN:VEVENT
DTSTART;TZID=Europe/Berlin:20260512T191500
DTEND;TZID=Europe/Berlin:20260512T204500
DTSTAMP:20260422T042657
CREATED:20250303T165236Z
LAST-MODIFIED:20251209T091048Z
UID:10004600-1778613300-1778618700@cyrkus.eu
SUMMARY:Akrobatyki Powietrznej
DESCRIPTION:Zapraszamy do spróbowania swoich sił i wspólnego zdobywania kondycji\, sprężystości i koordynacji na zawrotnych wysokościach podczas akrobatyki na chustach i trapezach. Przy odrobinie odwagi dzieci w wieku od 9 lat mogą wznieść się wysoko\, a dzięki wytrwałości i ćwiczeniom są w stanie szybko nauczyć się wykonywania zachwycających figur akrobatycznych na chustach. \nDrzwi na te warsztaty stoją otworem przed tymi\, którzy wcześniej mieli już do czynienia z akrobatyką na chustach i trapezie. Na tym kursie dzieci w wieku od 10 lat mogą głębiej wejść w aktywność fizyczną na wysokości i rozwijać precyzyjną świadomość zarówno swojego ciała jak i swojej tężyzny fizycznej. \nZe względu na duże zainteresowanie i dzięki warsztatom prowadzonym w ramach projektu CYRKUS w sklepie | im Laden akrobatyka powietrzna i poznawanie tej sztuki może stać się najważniejszym punktem dnia również dla dorosłych. \nKoszt: 150-200 €. (W przypadku pytań znajdziemy rozwiązanie)
URL:https://cyrkus.eu/pl/event/akrobatyki-powietrznej/2026-05-12/
LOCATION:Rabryka\, Conrad-Schiedt-Str. 23\, Görlitz\, Sachsen\, 02826\, Germany
CATEGORIES:Luftakrobatik
END:VEVENT
BEGIN:VEVENT
DTSTART;TZID=Europe/Berlin:20260519T173000
DTEND;TZID=Europe/Berlin:20260519T190000
DTSTAMP:20260422T042657
CREATED:20250301T153750Z
LAST-MODIFIED:20251209T091035Z
UID:10004465-1779211800-1779217200@cyrkus.eu
SUMMARY:Akrobatyki Powietrznej II
DESCRIPTION:Zapraszamy do spróbowania swoich sił i wspólnego zdobywania kondycji\, sprężystości i koordynacji na zawrotnych wysokościach podczas akrobatyki na chustach i trapezach. Przy odrobinie odwagi dzieci w wieku od 9 lat mogą wznieść się wysoko\, a dzięki wytrwałości i ćwiczeniom są w stanie szybko nauczyć się wykonywania zachwycających figur akrobatycznych na chustach. \nDrzwi na te warsztaty stoją otworem przed tymi\, którzy wcześniej mieli już do czynienia z akrobatyką na chustach i trapezie. Na tym kursie dzieci w wieku od 10 lat mogą głębiej wejść w aktywność fizyczną na wysokości i rozwijać precyzyjną świadomość zarówno swojego ciała jak i swojej tężyzny fizycznej. \nZe względu na duże zainteresowanie i dzięki warsztatom prowadzonym w ramach projektu CYRKUS w sklepie | im Laden akrobatyka powietrzna i poznawanie tej sztuki może stać się najważniejszym punktem dnia również dla dorosłych. \nKoszt: 600 zl-800 zl. (W przypadku pytań znajdziemy rozwiązanie)
URL:https://cyrkus.eu/pl/event/akrobatyki-powietrznej-i-srody-od-1530-do-1700/2026-05-19/
LOCATION:Rabryka\, Conrad-Schiedt-Str. 23\, Görlitz\, Sachsen\, 02826\, Germany
CATEGORIES:Luftakrobatik
END:VEVENT
BEGIN:VEVENT
DTSTART;TZID=Europe/Berlin:20260519T191500
DTEND;TZID=Europe/Berlin:20260519T204500
DTSTAMP:20260422T042657
CREATED:20250303T165236Z
LAST-MODIFIED:20251209T091048Z
UID:10005436-1779218100-1779223500@cyrkus.eu
SUMMARY:Akrobatyki Powietrznej
DESCRIPTION:Zapraszamy do spróbowania swoich sił i wspólnego zdobywania kondycji\, sprężystości i koordynacji na zawrotnych wysokościach podczas akrobatyki na chustach i trapezach. Przy odrobinie odwagi dzieci w wieku od 9 lat mogą wznieść się wysoko\, a dzięki wytrwałości i ćwiczeniom są w stanie szybko nauczyć się wykonywania zachwycających figur akrobatycznych na chustach. \nDrzwi na te warsztaty stoją otworem przed tymi\, którzy wcześniej mieli już do czynienia z akrobatyką na chustach i trapezie. Na tym kursie dzieci w wieku od 10 lat mogą głębiej wejść w aktywność fizyczną na wysokości i rozwijać precyzyjną świadomość zarówno swojego ciała jak i swojej tężyzny fizycznej. \nZe względu na duże zainteresowanie i dzięki warsztatom prowadzonym w ramach projektu CYRKUS w sklepie | im Laden akrobatyka powietrzna i poznawanie tej sztuki może stać się najważniejszym punktem dnia również dla dorosłych. \nKoszt: 150-200 €. (W przypadku pytań znajdziemy rozwiązanie)
URL:https://cyrkus.eu/pl/event/akrobatyki-powietrznej/2026-05-19/
LOCATION:Rabryka\, Conrad-Schiedt-Str. 23\, Görlitz\, Sachsen\, 02826\, Germany
CATEGORIES:Luftakrobatik
END:VEVENT
END:VCALENDAR